Workbook

Sheet Price Summary
A1: ARPA-H Budget Template adopted from ARPA-H-MAI-24-01 Volume I BOE Template | G1: Instructions:
G2: 1. This is the default format to submit for Volume I Basis of Estimate (Based on current ARPA-H-MAI-24-01-01 BOE template)
B3: Technical Area 1 | G3: 2. Any supporting documents provided with Volume I BOE submission will be included with Volume I application.
B4: Pricing Elements | C4: Associated Price | G4: 3. Copy paste the tables below to the Volume I BOE document
B5: Labor (Fully Burden) | C5: =Personnel!BL19 -> 207076
B6: Subcontractor(s) | C6: ='SUMMARY TOTAL'!AN27 -> 397500
B7: Other Direct Costs | C7: ='SUMMARY TOTAL'!AN42+'SUMMARY TOTAL'!AN33 -> 689100
B8: Indirect Costs (except on labor) | C8: ='SUMMARY TOTAL'!AN45-Personnel!BK19 -> 164787
B9: Total | C9: =SUM(C5:C8) -> 1458463 | D9: ='SUMMARY TOTAL'!AN46 -> 1458463 | E9: =C9-D9 -> 0
B10: Cost Sharing (if applicable)
B13: Technical Area 2
B14: Pricing Elements | C14: Associated Price
B15: Labor (Fully Burden) | C15: =Personnel!BL31 -> 207076
B16: Subcontractor(s) | C16: ='SUMMARY TOTAL'!AO27 -> 397500
B17: Other Direct Costs | C17: ='SUMMARY TOTAL'!AO42+'SUMMARY TOTAL'!AO33 -> 102000
B18: Indirect Costs (except on labor) | C18: ='SUMMARY TOTAL'!AO45-Personnel!BK31 -> 61098
B19: Total | C19: =SUM(C15:C18) -> 767674 | D19: ='SUMMARY TOTAL'!AO46 -> 767674 | E19: =C19-D19 -> 0
B20: Cost Sharing (if applicable)
B23: Technical Area 3
B24: Pricing Elements | C24: Associated Price
B25: Labor (Fully Burden) | C25: =Personnel!BL43 -> 207076
B26: Subcontractor(s) | C26: ='SUMMARY TOTAL'!AP27 -> 397500
B27: Other Direct Costs | C27: ='SUMMARY TOTAL'!AP42+'SUMMARY TOTAL'!AP33 -> 102000
B28: Indirect Costs (except on labor) | C28: ='SUMMARY TOTAL'!AP45-Personnel!BK43 -> 61098
B29: Total | C29: =SUM(C25:C28) -> 767674 | D29: ='SUMMARY TOTAL'!AP46 -> 767674 | E29: =C29-D29 -> 0
B30: Cost Sharing (if applicable)
B33: Technical Area 4
B34: Pricing Elements | C34: Associated Price
B35: Labor (Fully Burden) | C35: =Personnel!BL55 -> 207076
B36: Subcontractor(s) | C36: ='SUMMARY TOTAL'!AQ27 -> 397500
B37: Other Direct Costs | C37: ='SUMMARY TOTAL'!AQ42+'SUMMARY TOTAL'!AQ33 -> 102000
B38: Indirect Costs (except on labor) | C38: ='SUMMARY TOTAL'!AQ45-Personnel!BK55 -> 61098
B39: Total | C39: =SUM(C35:C38) -> 767674 | D39: ='SUMMARY TOTAL'!AQ46 -> 767674 | E39: =C39-D39 -> 0
B40: Cost Sharing (if applicable)
B43: Technical Area 5
B44: Pricing Elements | C44: Associated Price
B45: Labor (Fully Burden) | C45: =Personnel!BL67 -> 207076
B46: Subcontractor(s) | C46: ='SUMMARY TOTAL'!AR27 -> 397500
B47: Other Direct Costs | C47: ='SUMMARY TOTAL'!AR42+'SUMMARY TOTAL'!AR33 -> 102000
B48: Indirect Costs (except on labor) | C48: ='SUMMARY TOTAL'!AR45-Personnel!BK67 -> 61098
...

Sheet SUMMARY TOTAL
A1: SUMMARY OF PROPOSED COSTS
A2: UNIVERSITY OF
A3: PI:
A4: PROJECT PERIOD:
A7: BUDGET CATEGORY | D7: YEAR 1 (7/1/24-6/30/25) | J7: YEAR 2 (7/1/25-6/30/26) | P7: YEAR 3 (7/1/26-6/30/27) | V7: YEAR 4 (7/1/27-6/30/28) | AB7: YEAR 5 (7/1/28-6/30/29) | AH7: YEAR 6 (7/1/29-6/30/30) | AN7: TOTAL
D8: TA1 | E8: TA2 | F8: TA3 | G8: TA4 | H8: TA5 | I8: TOTAL | J8: TA1 | K8: TA2 | L8: TA3 | M8: TA4 | N8: TA5 | O8: TOTAL | P8: TA1 | Q8: TA2 | R8: TA3 | S8: TA4 | T8: TA5 | U8: TOTAL | V8: TA1 | W8: TA2 | X8: TA3 | Y8: TA4 | Z8: TA5 | AA8: TOTAL | AB8: TA1 | AC8: TA2 | AD8: TA3 | AE8: TA4 | AF8: TA5 | AG8: TOTAL | AH8: TA1 | AI8: TA2 | AJ8: TA3 | AK8: TA4 | AL8: TA5 | AM8: TOTAL | AN8: TA1 | AO8: TA2 | AP8: TA3 | AQ8: TA4 | AR8: TA5 | AS8: TOTAL
A9: DIRECT LABOR | B9: PERSONNEL | C9: ROLE
B10: =Personnel!B8 -> John Doe | C10: =Personnel!C8 -> Principal Investigator | D10: =Personnel!H8 -> 10605 | E10: =Personnel!H20 -> 10605 | F10: =Personnel!H32 -> 10605 | G10: =Personnel!H44 -> 10605 | H10: =Personnel!H56 -> 10605 | I10: =SUM(D10:H10) -> 53025 | J10: =Personnel!Q8 -> 10923 | K10: =Personnel!Q20 -> 10923 | L10: =Personnel!Q32 -> 10923 | M10: =Personnel!Q44 -> 10923 | N10: =Personnel!Q56 -> 10923 | O10: =SUM(J10:N10) -> 54615 | P10: =Personnel!Z8 -> 11251 | Q10: =Personnel!Z20 -> 11251 | R10: =Personnel!Z32 -> 11251 | S10: =Personnel!Z44 -> 11251 | T10: =Personnel!Z56 -> 11251 | U10: =SUM(P10:T10) -> 56255 | V10: =Personnel!AI8 -> 11588 | W10: =Personnel!AI20 -> 11588 | X10: =Personnel!AI32 -> 11588 | Y10: =Personnel!AI44 -> 11588 | Z10: =Personnel!AI56 -> 11588 | AA10: =SUM(V10:Z10) -> 57940 | AB10: =Personnel!AR8 -> 11936 | AC10: =Personnel!AR20 -> 11936 | AD10: =Personnel!AR32 -> 11936 | AE10: =Personnel!AR44 -> 11936 | AF10: =Personnel!AR56 -> 11936 | AG10: =SUM(AB10:AF10) -> 59680 | AH10: =Personnel!BA8 -> 12294 | AI10: =Personnel!BA20 -> 12294 | AJ10: =Personnel!BA32 -> 12294 | AK10: =Personnel!BA44 -> 12294 | AL10: =Personnel!BA56 -> 12294 | AM10: =SUM(AH10:AL10) -> 61470 | AN10: =D10+J10+P10+V10+AB10+AH10 -> 68597 | AO10: =E10+K10+Q10+W10+AC10+AI10 -> 68597 | AP10: =F10+L10+R10+X10+AD10+AJ10 -> 68597 | AQ10: =G10+M10+S10+Y10+AE10+AK10 -> 68597 | AR10: =H10+N10+T10+Z10+AF10+AL10 -> 68597 | AS10: =SUM(AN10:AR10) -> 342985
B11: =Personnel!B9 -> Jane Doe | C11: =Personnel!C9 -> Co-Investigator | D11: =Personnel!H9 -> 3750 | E11: =Personnel!H21 -> 3750 | F11: =Personnel!H33 -> 3750 | G11: =Personnel!H45 -> 3750 | H11: =Personnel!H57 -> 3750 | I11: =SUM(D11:H11) -> 18750 | J11: =Personnel!Q9 -> 3863 | K11: =Personnel!Q21 -> 3863 | L11: =Personnel!Q33 -> 3863 | M11: =Personnel!Q45 -> 3863 | N11: =Personnel!Q57 -> 3863 | O11: =SUM(J11:N11) -> 19315 | P11: =Personnel!Z9 -> 3978 | Q11: =Personnel!Z21 -> 3978 | R11: =Personnel!Z33 -> 3978 | S11: =Personnel!Z45 -> 3978 | T11: =Personnel!Z57 -> 3978 | U11: =SUM(P11:T11) -> 19890 | V11: =Personnel!AI9 -> 4098 | W11: =Personnel!AI21 -> 4098 | X11: =Personnel!AI33 -> 4098 | Y11: =Personnel!AI45 -> 4098 | Z11: =Personnel!AI57 -> 4098 | AA11: =SUM(V11:Z11) -> 20490 | AB11: =Personnel!AR9 -> 4221 | AC11: =Personnel!AR21 -> 4221 | AD11: =Personnel!AR33 -> 4221 | AE11: =Personnel!AR45 -> 4221 | AF11: =Personnel!AR57 -> 4221 | AG11: =SUM(AB11:AF11) -> 21105 | AH11: =Personnel!BA9 -> 4347 | AI11: =Personnel!BA21 -> 4347 | AJ11: =Personnel!BA33 -> 4347 | AK11: =Personnel!BA45 -> 4347 | AL11: =Personnel!BA57 -> 4347 | AM11: =SUM(AH11:AL11) -> 21735 | AN11: =D11+J11+P11+V11+AB11+AH11 -> 24257 | AO11: =E11+K11+Q11+W11+AC11+AI11 -> 24257 | AP11: =F11+L11+R11+X11+AD11+AJ11 -> 24257 | AQ11: =G11+M11+S11+Y11+AE11+AK11 -> 24257 | AR11: =H11+N11+T11+Z11+AF11+AL11 -> 24257 | AS11: =SUM(AN11:AR11) -> 121285
B12: =Personnel!B10 -> 0 | C12: =Personnel!C10 -> 0 | D12: =Personnel!H10 -> 0 | E12: =Personnel!H22 -> 0 | F12: =Personnel!H34 -> 0 | G12: =Personnel!H46 -> 0 | H12: =Personnel!H58 -> 0 | I12: =SUM(D12:H12) -> 0 | J12: =Personnel!Q10 -> 0 | K12: =Personnel!Q22 -> 0 | L12: =Personnel!Q34 -> 0 | M12: =Personnel!Q46 -> 0 | N12: =Personnel!Q58 -> 0 | O12: =SUM(J12:N12) -> 0 | P12: =Personnel!Z10 -> 0 | Q12: =Personnel!Z22 -> 0 | R12: =Personnel!Z34 -> 0 | S12: =Personnel!Z46 -> 0 | T12: =Personnel!Z58 -> 0 | U12: =SUM(P12:T12) -> 0 | V12: =Personnel!AI10 -> 0 | W12: =Personnel!AI22 -> 0 | X12: =Personnel!AI34 -> 0 | Y12: =Personnel!AI46 -> 0 | Z12: =Personnel!AI58 -> 0 | AA12: =SUM(V12:Z12) -> 0 | AB12: =Personnel!AR10 -> 0 | AC12: =Personnel!AR22 -> 0 | AD12: =Personnel!AR34 -> 0 | AE12: =Personnel!AR46 -> 0 | AF12: =Personnel!AR58 -> 0 | AG12: =SUM(AB12:AF12) -> 0 | AH12: =Personnel!BA10 -> 0 | AI12: =Personnel!BA22 -> 0 | AJ12: =Personnel!BA34 -> 0 | AK12: =Personnel!BA46 -> 0 | AL12: =Personnel!BA58 -> 0 | AM12: =SUM(AH12:AL12) -> 0 | AN12: =D12+J12+P12+V12+AB12+AH12 -> 0 | AO12: =E12+K12+Q12+W12+AC12+AI12 -> 0 | AP12: =F12+L12+R12+X12+AD12+AJ12 -> 0 | AQ12: =G12+M12+S12+Y12+AE12+AK12 -> 0 | AR12: =H12+N12+T12+Z12+AF12+AL12 -> 0 | AS12: =SUM(AN12:AR12) -> 0
B13: =Personnel!B11 -> 0 | C13: =Personnel!C11 -> 0 | D13: =Personnel!H11 -> 0 | E13: =Personnel!H23 -> 0 | F13: =Personnel!H35 -> 0 | G13: =Personnel!H47 -> 0 | H13: =Personnel!H59 -> 0 | I13: =SUM(D13:H13) -> 0 | J13: =Personnel!Q11 -> 0 | K13: =Personnel!Q23 -> 0 | L13: =Personnel!Q35 -> 0 | M13: =Personnel!Q47 -> 0 | N13: =Personnel!Q59 -> 0 | O13: =SUM(J13:N13) -> 0 | P13: =Personnel!Z11 -> 0 | Q13: =Personnel!Z23 -> 0 | R13: =Personnel!Z35 -> 0 | S13: =Personnel!Z47 -> 0 | T13: =Personnel!Z59 -> 0 | U13: =SUM(P13:T13) -> 0 | V13: =Personnel!AI11 -> 0 | W13: =Personnel!AI23 -> 0 | X13: =Personnel!AI35 -> 0 | Y13: =Personnel!AI47 -> 0 | Z13: =Personnel!AI59 -> 0 | AA13: =SUM(V13:Z13) -> 0 | AB13: =Personnel!AR11 -> 0 | AC13: =Personnel!AR23 -> 0 | AD13: =Personnel!AR35 -> 0 | AE13: =Personnel!AR47 -> 0 | AF13: =Personnel!AR59 -> 0 | AG13: =SUM(AB13:AF13) -> 0 | AH13: =Personnel!BA11 -> 0 | AI13: =Personnel!BA23 -> 0 | AJ13: =Personnel!BA35 -> 0 | AK13: =Personnel!BA47 -> 0 | AL13: =Personnel!BA59 -> 0 | AM13: =SUM(AH13:AL13) -> 0 | AN13: =D13+J13+P13+V13+AB13+AH13 -> 0 | AO13: =E13+K13+Q13+W13+AC13+AI13 -> 0 | AP13: =F13+L13+R13+X13+AD13+AJ13 -> 0 | AQ13: =G13+M13+S13+Y13+AE13+AK13 -> 0 | AR13: =H13+N13+T13+Z13+AF13+AL13 -> 0 | AS13: =SUM(AN13:AR13) -> 0
B14: =Personnel!B12 -> 0 | C14: =Personnel!C12 -> 0 | D14: =Personnel!H12 -> 0 | E14: =Personnel!H24 -> 0 | F14: =Personnel!H36 -> 0 | G14: =Personnel!H48 -> 0 | H14: =Personnel!H60 -> 0 | I14: =SUM(D14:H14) -> 0 | J14: =Personnel!Q12 -> 0 | K14: =Personnel!Q24 -> 0 | L14: =Personnel!Q36 -> 0 | M14: =Personnel!Q48 -> 0 | N14: =Personnel!Q60 -> 0 | O14: =SUM(J14:N14) -> 0 | P14: =Personnel!Z12 -> 0 | Q14: =Personnel!Z24 -> 0 | R14: =Personnel!Z36 -> 0 | S14: =Personnel!Z48 -> 0 | T14: =Personnel!Z60 -> 0 | U14: =SUM(P14:T14) -> 0 | V14: =Personnel!AI12 -> 0 | W14: =Personnel!AI24 -> 0 | X14: =Personnel!AI36 -> 0 | Y14: =Personnel!AI48 -> 0 | Z14: =Personnel!AI60 -> 0 | AA14: =SUM(V14:Z14) -> 0 | AB14: =Personnel!AR12 -> 0 | AC14: =Personnel!AR24 -> 0 | AD14: =Personnel!AR36 -> 0 | AE14: =Personnel!AR48 -> 0 | AF14: =Personnel!AR60 -> 0 | AG14: =SUM(AB14:AF14) -> 0 | AH14: =Personnel!BA12 -> 0 | AI14: =Personnel!BA24 -> 0 | AJ14: =Personnel!BA36 -> 0 | AK14: =Personnel!BA48 -> 0 | AL14: =Personnel!BA60 -> 0 | AM14: =SUM(AH14:AL14) -> 0 | AN14: =D14+J14+P14+V14+AB14+AH14 -> 0 | AO14: =E14+K14+Q14+W14+AC14+AI14 -> 0 | AP14: =F14+L14+R14+X14+AD14+AJ14 -> 0 | AQ14: =G14+M14+S14+Y14+AE14+AK14 -> 0 | AR14: =H14+N14+T14+Z14+AF14+AL14 -> 0 | AS14: =SUM(AN14:AR14) -> 0
B15: =Personnel!B13 -> 0 | C15: =Personnel!C13 -> 0 | D15: =Personnel!H13 -> 0 | E15: =Personnel!H25 -> 0 | F15: =Personnel!H37 -> 0 | G15: =Personnel!H49 -> 0 | H15: =Personnel!H61 -> 0 | I15: =SUM(D15:H15) -> 0 | J15: =Personnel!Q13 -> 0 | K15: =Personnel!Q25 -> 0 | L15: =Personnel!Q37 -> 0 | M15: =Personnel!Q49 -> 0 | N15: =Personnel!Q61 -> 0 | O15: =SUM(J15:N15) -> 0 | P15: =Personnel!Z13 -> 0 | Q15: =Personnel!Z25 -> 0 | R15: =Personnel!Z37 -> 0 | S15: =Personnel!Z49 -> 0 | T15: =Personnel!Z61 -> 0 | U15: =SUM(P15:T15) -> 0 | V15: =Personnel!AI13 -> 0 | W15: =Personnel!AI25 -> 0 | X15: =Personnel!AI37 -> 0 | Y15: =Personnel!AI49 -> 0 | Z15: =Personnel!AI61 -> 0 | AA15: =SUM(V15:Z15) -> 0 | AB15: =Personnel!AR13 -> 0 | AC15: =Personnel!AR25 -> 0 | AD15: =Personnel!AR37 -> 0 | AE15: =Personnel!AR49 -> 0 | AF15: =Personnel!AR61 -> 0 | AG15: =SUM(AB15:AF15) -> 0 | AH15: =Personnel!BA13 -> 0 | AI15: =Personnel!BA25 -> 0 | AJ15: =Personnel!BA37 -> 0 | AK15: =Personnel!BA49 -> 0 | AL15: =Personnel!BA61 -> 0 | AM15: =SUM(AH15:AL15) -> 0 | AN15: =D15+J15+P15+V15+AB15+AH15 -> 0 | AO15: =E15+K15+Q15+W15+AC15+AI15 -> 0 | AP15: =F15+L15+R15+X15+AD15+AJ15 -> 0 | AQ15: =G15+M15+S15+Y15+AE15+AK15 -> 0 | AR15: =H15+N15+T15+Z15+AF15+AL15 -> 0 | AS15: =SUM(AN15:AR15) -> 0
B16: =Personnel!B14 -> 0 | C16: =Personnel!C14 -> 0 | D16: =Personnel!H14 -> 0 | E16: =Personnel!H26 -> 0 | F16: =Personnel!H38 -> 0 | G16: =Personnel!H50 -> 0 | H16: =Personnel!H62 -> 0 | I16: =SUM(D16:H16) -> 0 | J16: =Personnel!Q14 -> 0 | K16: =Personnel!Q26 -> 0 | L16: =Personnel!Q38 -> 0 | M16: =Personnel!Q50 -> 0 | N16: =Personnel!Q62 -> 0 | O16: =SUM(J16:N16) -> 0 | P16: =Personnel!Z14 -> 0 | Q16: =Personnel!Z26 -> 0 | R16: =Personnel!Z38 -> 0 | S16: =Personnel!Z50 -> 0 | T16: =Personnel!Z62 -> 0 | U16: =SUM(P16:T16) -> 0 | V16: =Personnel!AI14 -> 0 | W16: =Personnel!AI26 -> 0 | X16: =Personnel!AI38 -> 0 | Y16: =Personnel!AI50 -> 0 | Z16: =Personnel!AI62 -> 0 | AA16: =SUM(V16:Z16) -> 0 | AB16: =Personnel!AR14 -> 0 | AC16: =Personnel!AR26 -> 0 | AD16: =Personnel!AR38 -> 0 | AE16: =Personnel!AR50 -> 0 | AF16: =Personnel!AR62 -> 0 | AG16: =SUM(AB16:AF16) -> 0 | AH16: =Personnel!BA14 -> 0 | AI16: =Personnel!BA26 -> 0 | AJ16: =Personnel!BA38 -> 0 | AK16: =Personnel!BA50 -> 0 | AL16: =Personnel!BA62 -> 0 | AM16: =SUM(AH16:AL16) -> 0 | AN16: =D16+J16+P16+V16+AB16+AH16 -> 0 | AO16: =E16+K16+Q16+W16+AC16+AI16 -> 0 | AP16: =F16+L16+R16+X16+AD16+AJ16 -> 0 | AQ16: =G16+M16+S16+Y16+AE16+AK16 -> 0 | AR16: =H16+N16+T16+Z16+AF16+AL16 -> 0 | AS16: =SUM(AN16:AR16) -> 0
B17: =Personnel!B15 -> 0 | C17: =Personnel!C15 -> 0 | D17: =Personnel!H15 -> 0 | E17: =Personnel!H27 -> 0 | F17: =Personnel!H39 -> 0 | G17: =Personnel!H51 -> 0 | H17: =Personnel!H63 -> 0 | I17: =SUM(D17:H17) -> 0 | J17: =Personnel!Q15 -> 0 | K17: =Personnel!Q27 -> 0 | L17: =Personnel!Q39 -> 0 | M17: =Personnel!Q51 -> 0 | N17: =Personnel!Q63 -> 0 | O17: =SUM(J17:N17) -> 0 | P17: =Personnel!Z15 -> 0 | Q17: =Personnel!Z27 -> 0 | R17: =Personnel!Z39 -> 0 | S17: =Personnel!Z51 -> 0 | T17: =Personnel!Z63 -> 0 | U17: =SUM(P17:T17) -> 0 | V17: =Personnel!AI15 -> 0 | W17: =Personnel!AI27 -> 0 | X17: =Personnel!AI39 -> 0 | Y17: =Personnel!AI51 -> 0 | Z17: =Personnel!AI63 -> 0 | AA17: =SUM(V17:Z17) -> 0 | AB17: =Personnel!AR15 -> 0 | AC17: =Personnel!AR27 -> 0 | AD17: =Personnel!AR39 -> 0 | AE17: =Personnel!AR51 -> 0 | AF17: =Personnel!AR63 -> 0 | AG17: =SUM(AB17:AF17) -> 0 | AH17: =Personnel!BA15 -> 0 | AI17: =Personnel!BA27 -> 0 | AJ17: =Personnel!BA39 -> 0 | AK17: =Personnel!BA51 -> 0 | AL17: =Personnel!BA63 -> 0 | AM17: =SUM(AH17:AL17) -> 0 | AN17: =D17+J17+P17+V17+AB17+AH17 -> 0 | AO17: =E17+K17+Q17+W17+AC17+AI17 -> 0 | AP17: =F17+L17+R17+X17+AD17+AJ17 -> 0 | AQ17: =G17+M17+S17+Y17+AE17+AK17 -> 0 | AR17: =H17+N17+T17+Z17+AF17+AL17 -> 0 | AS17: =SUM(AN17:AR17) -> 0
B18: =Personnel!B16 -> 0 | C18: =Personnel!C16 -> 0 | D18: =Personnel!H16 -> 0 | E18: =Personnel!H28 -> 0 | F18: =Personnel!H40 -> 0 | G18: =Personnel!H52 -> 0 | H18: =Personnel!H64 -> 0 | I18: =SUM(D18:H18) -> 0 | J18: =Personnel!Q16 -> 0 | K18: =Personnel!Q28 -> 0 | L18: =Personnel!Q40 -> 0 | M18: =Personnel!Q52 -> 0 | N18: =Personnel!Q64 -> 0 | O18: =SUM(J18:N18) -> 0 | P18: =Personnel!Z16 -> 0 | Q18: =Personnel!Z28 -> 0 | R18: =Personnel!Z40 -> 0 | S18: =Personnel!Z52 -> 0 | T18: =Personnel!Z64 -> 0 | U18: =SUM(P18:T18) -> 0 | V18: =Personnel!AI16 -> 0 | W18: =Personnel!AI28 -> 0 | X18: =Personnel!AI40 -> 0 | Y18: =Personnel!AI52 -> 0 | Z18: =Personnel!AI64 -> 0 | AA18: =SUM(V18:Z18) -> 0 | AB18: =Personnel!AR16 -> 0 | AC18: =Personnel!AR28 -> 0 | AD18: =Personnel!AR40 -> 0 | AE18: =Personnel!AR52 -> 0 | AF18: =Personnel!AR64 -> 0 | AG18: =SUM(AB18:AF18) -> 0 | AH18: =Personnel!BA16 -> 0 | AI18: =Personnel!BA28 -> 0 | AJ18: =Personnel!BA40 -> 0 | AK18: =Personnel!BA52 -> 0 | AL18: =Personnel!BA64 -> 0 | AM18: =SUM(AH18:AL18) -> 0 | AN18: =D18+J18+P18+V18+AB18+AH18 -> 0 | AO18: =E18+K18+Q18+W18+AC18+AI18 -> 0 | AP18: =F18+L18+R18+X18+AD18+AJ18 -> 0 | AQ18: =G18+M18+S18+Y18+AE18+AK18 -> 0 | AR18: =H18+N18+T18+Z18+AF18+AL18 -> 0 | AS18: =SUM(AN18:AR18) -> 0
B19: =Personnel!B17 -> 0 | C19: =Personnel!C17 -> 0 | D19: =Personnel!H17 -> 0 | E19: =Personnel!H29 -> 0 | F19: =Personnel!H41 -> 0 | G19: =Personnel!H53 -> 0 | H19: =Personnel!H65 -> 0 | I19: =SUM(D19:H19) -> 0 | J19: =Personnel!Q17 -> 0 | K19: =Personnel!Q29 -> 0 | L19: =Personnel!Q41 -> 0 | M19: =Personnel!Q53 -> 0 | N19: =Personnel!Q65 -> 0 | O19: =SUM(J19:N19) -> 0 | P19: =Personnel!Z17 -> 0 | Q19: =Personnel!Z29 -> 0 | R19: =Personnel!Z41 -> 0 | S19: =Personnel!Z53 -> 0 | T19: =Personnel!Z65 -> 0 | U19: =SUM(P19:T19) -> 0 | V19: =Personnel!AI17 -> 0 | W19: =Personnel!AI29 -> 0 | X19: =Personnel!AI41 -> 0 | Y19: =Personnel!AI53 -> 0 | Z19: =Personnel!AI65 -> 0 | AA19: =SUM(V19:Z19) -> 0 | AB19: =Personnel!AR17 -> 0 | AC19: =Personnel!AR29 -> 0 | AD19: =Personnel!AR41 -> 0 | AE19: =Personnel!AR53 -> 0 | AF19: =Personnel!AR65 -> 0 | AG19: =SUM(AB19:AF19) -> 0 | AH19: =Personnel!BA17 -> 0 | AI19: =Personnel!BA29 -> 0 | AJ19: =Personnel!BA41 -> 0 | AK19: =Personnel!BA53 -> 0 | AL19: =Personnel!BA65 -> 0 | AM19: =SUM(AH19:AL19) -> 0 | AN19: =D19+J19+P19+V19+AB19+AH19 -> 0 | AO19: =E19+K19+Q19+W19+AC19+AI19 -> 0 | AP19: =F19+L19+R19+X19+AD19+AJ19 -> 0 | AQ19: =G19+M19+S19+Y19+AE19+AK19 -> 0 | AR19: =H19+N19+T19+Z19+AF19+AL19 -> 0 | AS19: =SUM(AN19:AR19) -> 0
A20: TOTAL DIRECT LABOR COSTS | D20: =SUM(D10:D19) -> 14355 | E20: =SUM(E10:E19) -> 14355 | F20: =SUM(F10:F19) -> 14355 | G20: =SUM(G10:G19) -> 14355 | H20: =SUM(H10:H19) -> 14355 | I20: =SUM(I10:I19) -> 71775 | J20: =SUM(J10:J19) -> 14786 | K20: =SUM(K10:K19) -> 14786 | ... AS20: =SUM(AS10:AS19) -> 464270
A21: TOTAL FRINGE BENEFIT COSTS | D21: =Personnel!J19 -> 5243 | E21: =Personnel!J31 -> 5243 | F21: =Personnel!J43 -> 5243 | G21: =Personnel!J55 -> 5243 | H21: =Personnel!J67 -> 5243 | I21: =SUM(D21:H21) -> 26215 | J21: =Personnel!S19 -> 5562 | K21: =Personnel!S31 -> 5562 | L21: =Personnel!S43 -> 5562 | M21: =Personnel!S55 -> 5562 | N21: =Personnel!S67 -> 5562 | O21: =SUM(J21:N21) -> 27810 | P21: =Personnel!AB19 -> 5900 | Q21: =Personnel!AB31 -> 5900 | R21: =Personnel!AB43 -> 5900 | S21: =Personnel!AB55 -> 5900 | T21: =Personnel!AB67 -> 5900 | U21: =SUM(P21:T21) -> 29500 | V21: =Personnel!AK19 -> 6259 | W21: =Personnel!AK31 -> 6259 | X21: =Personnel!AK43 -> 6259 | Y21: =Personnel!AK55 -> 6259 | Z21: =Personnel!AK67 -> 6259 | AA21: =SUM(V21:Z21) -> 31295 | AB21: =Personnel!AT19 -> 6641 | AC21: =Personnel!AT31 -> 6641 | AD21: =Personnel!AT43 -> 6641 | AE21: =Personnel!AT55 -> 6641 | AF21: =Personnel!AT67 -> 6641 | AG21: =SUM(AB21:AF21) -> 33205 | AH21: =Personnel!BC19 -> 7045 | AI21: =Personnel!BC31 -> 7045 | AJ21: =Personnel!BC43 -> 7045 | AK21: =Personnel!BC55 -> 7045 | AL21: =Personnel!BC67 -> 7045 | AM21: =SUM(AH21:AL21) -> 35225 | AN21: =D21+J21+P21+V21+AB21+AH21 -> 36650 | AO21: =E21+K21+Q21+W21+AC21+AI21 -> 36650 | AP21: =F21+L21+R21+X21+AD21+AJ21 -> 36650 | AQ21: =G21+M21+S21+Y21+AE21+AK21 -> 36650 | AR21: =H21+N21+T21+Z21+AF21+AL21 -> 36650 | AS21: =SUM(AN21:AR21) -> 183250
A22: TOTAL DIRECT LABOR AND FRINGE BENEFIT COSTS | D22: =D20+D21 -> 19598 | E22: =E20+E21 -> 19598 | F22: =F20+F21 -> 19598 | G22: =G20+G21 -> 19598 | H22: =H20+H21 -> 19598 | I22: =I20+I21 -> 97990 | J22: =J20+J21 -> 20348 | K22: =K20+K21 -> 20348 | ... AM22: =AM20+AM21 -> 118430 | AN22: =D22+J22+P22+V22+AB22+AH22 -> 129504 | AO22: =E22+K22+Q22+W22+AC22+AI22 -> 129504 | AP22: =F22+L22+R22+X22+AD22+AJ22 -> 129504 | AQ22: =G22+M22+S22+Y22+AE22+AK22 -> 129504 | AR22: =H22+N22+T22+Z22+AF22+AL22 -> 129504 | AS22: =SUM(AN22:AR22) -> 647520
A23: SUBCONTRACTS | B23: PARTNER INSTITUTIONS
B24: =Subcontracts!B8 -> Uni A | D24: =Subcontracts!D10 -> 39000 | E24: =Subcontracts!D20 -> 39000 | F24: =Subcontracts!D30 -> 39000 | G24: =Subcontracts!D40 -> 39000 | H24: =Subcontracts!D50 -> 39000 | I24: =SUM(D24:H24) -> 195000 | J24: =Subcontracts!E10 -> 45000 | K24: =Subcontracts!E20 -> 45000 | L24: =Subcontracts!E30 -> 45000 | M24: =Subcontracts!E40 -> 45000 | N24: =Subcontracts!E50 -> 45000 | O24: =SUM(J24:N24) -> 225000 | P24: =Subcontracts!F10 -> 51000 | Q24: =Subcontracts!F20 -> 51000 | R24: =Subcontracts!F30 -> 51000 | S24: =Subcontracts!F40 -> 51000 | T24: =Subcontracts!F50 -> 51000 | U24: =SUM(P24:T24) -> 255000 | V24: =Subcontracts!G10 -> 57000 | W24: =Subcontracts!G20 -> 57000 | X24: =Subcontracts!G30 -> 57000 | Y24: =Subcontracts!G40 -> 57000 | Z24: =Subcontracts!G50 -> 57000 | AA24: =SUM(V24:Z24) -> 285000 | AB24: =Subcontracts!H10 -> 60000 | AC24: =Subcontracts!H20 -> 60000 | AD24: =Subcontracts!H30 -> 60000 | AE24: =Subcontracts!H40 -> 60000 | AF24: =Subcontracts!H50 -> 60000 | AG24: =SUM(AB24:AF24) -> 300000 | AH24: =Subcontracts!I10 -> 63000 | AI24: =Subcontracts!I20 -> 63000 | AJ24: =Subcontracts!I30 -> 63000 | AK24: =Subcontracts!I40 -> 63000 | AL24: =Subcontracts!I50 -> 63000 | AM24: =SUM(AH24:AL24) -> 315000 | AN24: =D24+J24+P24+V24+AB24+AH24 -> 315000 | AO24: =E24+K24+Q24+W24+AC24+AI24 -> 315000 | AP24: =F24+L24+R24+X24+AD24+AJ24 -> 315000 | AQ24: =G24+M24+S24+Y24+AE24+AK24 -> 315000 | AR24: =H24+N24+T24+Z24+AF24+AL24 -> 315000 | AS24: =SUM(AN24:AR24) -> 1575000
B25: =Subcontracts!B11 -> Uni B | D25: =Subcontracts!D13 -> 40500 | E25: =Subcontracts!D23 -> 40500 | F25: =Subcontracts!D33 -> 40500 | G25: =Subcontracts!D43 -> 40500 | H25: =Subcontracts!D53 -> 40500 | I25: =SUM(D25:H25) -> 202500 | J25: =Subcontracts!E13 -> 0 | K25: =Subcontracts!E23 -> 0 | L25: =Subcontracts!E33 -> 0 | M25: =Subcontracts!E43 -> 0 | N25: =Subcontracts!E53 -> 0 | O25: =SUM(J25:N25) -> 0 | P25: =Subcontracts!F13 -> 0 | Q25: =Subcontracts!F23 -> 0 | R25: =Subcontracts!F33 -> 0 | S25: =Subcontracts!F43 -> 0 | T25: =Subcontracts!F53 -> 0 | U25: =SUM(P25:T25) -> 0 | V25: =Subcontracts!G13 -> 0 | W25: =Subcontracts!G23 -> 0 | X25: =Subcontracts!G33 -> 0 | Y25: =Subcontracts!G43 -> 0 | Z25: =Subcontracts!G53 -> 0 | AA25: =SUM(V25:Z25) -> 0 | AB25: =Subcontracts!H13 -> 0 | AC25: =Subcontracts!H23 -> 0 | AD25: =Subcontracts!H33 -> 0 | AE25: =Subcontracts!H43 -> 0 | AF25: =Subcontracts!H53 -> 0 | AG25: =SUM(AB25:AF25) -> 0 | AH25: =Subcontracts!I13 -> 0 | AI25: =Subcontracts!I23 -> 0 | AJ25: =Subcontracts!I33 -> 0 | AK25: =Subcontracts!I43 -> 0 | AL25: =Subcontracts!I53 -> 0 | AM25: =SUM(AH25:AL25) -> 0 | AN25: =D25+J25+P25+V25+AB25+AH25 -> 40500 | AO25: =E25+K25+Q25+W25+AC25+AI25 -> 40500 | AP25: =F25+L25+R25+X25+AD25+AJ25 -> 40500 | AQ25: =G25+M25+S25+Y25+AE25+AK25 -> 40500 | AR25: =H25+N25+T25+Z25+AF25+AL25 -> 40500 | AS25: =SUM(AN25:AR25) -> 202500
B26: =Subcontracts!B14 -> Uni C | D26: =Subcontracts!D16 -> 42000 | E26: =Subcontracts!D26 -> 42000 | F26: =Subcontracts!D36 -> 42000 | G26: =Subcontracts!D46 -> 42000 | H26: =Subcontracts!D56 -> 42000 | I26: =SUM(D26:H26) -> 210000 | J26: =Subcontracts!E16 -> 0 | K26: =Subcontracts!E26 -> 0 | L26: =Subcontracts!E36 -> 0 | M26: =Subcontracts!E46 -> 0 | N26: =Subcontracts!E56 -> 0 | O26: =SUM(J26:N26) -> 0 | P26: =Subcontracts!F16 -> 0 | Q26: =Subcontracts!F26 -> 0 | R26: =Subcontracts!F36 -> 0 | S26: =Subcontracts!F46 -> 0 | T26: =Subcontracts!F56 -> 0 | U26: =SUM(P26:T26) -> 0 | V26: =Subcontracts!G16 -> 0 | W26: =Subcontracts!G26 -> 0 | X26: =Subcontracts!G36 -> 0 | Y26: =Subcontracts!G46 -> 0 | Z26: =Subcontracts!G56 -> 0 | AA26: =SUM(V26:Z26) -> 0 | AB26: =Subcontracts!H16 -> 0 | AC26: =Subcontracts!H26 -> 0 | AD26: =Subcontracts!H36 -> 0 | AE26: =Subcontracts!H46 -> 0 | AF26: =Subcontracts!H56 -> 0 | AG26: =SUM(AB26:AF26) -> 0 | AH26: =Subcontracts!I16 -> 0 | AI26: =Subcontracts!I26 -> 0 | AJ26: =Subcontracts!I36 -> 0 | AK26: =Subcontracts!I46 -> 0 | AL26: =Subcontracts!I56 -> 0 | AM26: =SUM(AH26:AL26) -> 0 | AN26: =D26+J26+P26+V26+AB26+AH26 -> 42000 | AO26: =E26+K26+Q26+W26+AC26+AI26 -> 42000 | AP26: =F26+L26+R26+X26+AD26+AJ26 -> 42000 | AQ26: =G26+M26+S26+Y26+AE26+AK26 -> 42000 | AR26: =H26+N26+T26+Z26+AF26+AL26 -> 42000 | AS26: =SUM(AN26:AR26) -> 210000
A27: TOTAL SUBCONTRACTS | D27: =SUM(D24:D26) -> 121500 | E27: =SUM(E24:E26) -> 121500 | F27: =SUM(F24:F26) -> 121500 | G27: =SUM(G24:G26) -> 121500 | H27: =SUM(H24:H26) -> 121500 | I27: =SUM(I24:I26) -> 607500 | J27: =SUM(J24:J26) -> 45000 | K27: =SUM(K24:K26) -> 45000 | ... AM27: =SUM(AM24:AM26) -> 315000 | AN27: =D27+J27+P27+V27+AB27+AH27 -> 397500 | AO27: =E27+K27+Q27+W27+AC27+AI27 -> 397500 | AP27: =F27+L27+R27+X27+AD27+AJ27 -> 397500 | AQ27: =G27+M27+S27+Y27+AE27+AK27 -> 397500 | AR27: =H27+N27+T27+Z27+AF27+AL27 -> 397500 | AS27: =SUM(AN27:AR27) -> 1987500
A28: CONSULTANTS | B28: CONSULTANT NAME
B29: =Consultants!B8 -> Example | D29: =Consultants!J8 -> 14000 | E29: =Consultants!J13 -> 14000 | F29: =Consultants!J18 -> 14000 | G29: =Consultants!J23 -> 14000 | H29: =Consultants!J28 -> 14000 | I29: =SUM(D29:H29) -> 70000 | J29: =Consultants!P8 -> 14000 | K29: =Consultants!P13 -> 14000 | L29: =Consultants!P18 -> 14000 | M29: =Consultants!P23 -> 14000 | N29: =Consultants!P28 -> 14000 | O29: =SUM(J29:N29) -> 70000 | P29: =Consultants!V8 -> 14000 | Q29: =Consultants!V13 -> 14000 | R29: =Consultants!V18 -> 14000 | S29: =Consultants!V23 -> 14000 | T29: =Consultants!V28 -> 14000 | U29: =SUM(P29:T29) -> 70000 | V29: =Consultants!AB8 -> 14000 | W29: =Consultants!AB13 -> 14000 | X29: =Consultants!AB18 -> 14000 | Y29: =Consultants!AB23 -> 14000 | Z29: =Consultants!AB28 -> 14000 | AA29: =SUM(V29:Z29) -> 70000 | AB29: =Consultants!AH8 -> 14000 | AC29: =Consultants!AH13 -> 14000 | AD29: =Consultants!AH18 -> 14000 | AE29: =Consultants!AH23 -> 14000 | AF29: =Consultants!AH28 -> 14000 | AG29: =SUM(AB29:AF29) -> 70000 | AH29: =Consultants!AN8 -> 14000 | AI29: =Consultants!AN13 -> 14000 | AJ29: =Consultants!AN18 -> 14000 | AK29: =Consultants!AN23 -> 14000 | AL29: =Consultants!AN28 -> 14000 | AM29: =SUM(AH29:AL29) -> 70000 | AN29: =D29+J29+P29+V29+AB29+AH29 -> 84000 | AO29: =E29+K29+Q29+W29+AC29+AI29 -> 84000 | AP29: =F29+L29+R29+X29+AD29+AJ29 -> 84000 | AQ29: =G29+M29+S29+Y29+AE29+AK29 -> 84000 | AR29: =H29+N29+T29+Z29+AF29+AL29 -> 84000 | AS29: =SUM(AN29:AR29) -> 420000
B30: =Consultants!B9 -> 0 | D30: =Consultants!J9 -> 0 | E30: =Consultants!J14 -> 0 | F30: =Consultants!J19 -> 0 | G30: =Consultants!J24 -> 0 | H30: =Consultants!J29 -> 0 | I30: =SUM(D30:H30) -> 0 | J30: =Consultants!P9 -> 0 | K30: =Consultants!P14 -> 0 | L30: =Consultants!P19 -> 0 | M30: =Consultants!P24 -> 0 | N30: =Consultants!P29 -> 0 | O30: =SUM(J30:N30) -> 0 | P30: =Consultants!V9 -> 0 | Q30: =Consultants!V14 -> 0 | R30: =Consultants!V19 -> 0 | S30: =Consultants!V24 -> 0 | T30: =Consultants!V29 -> 0 | U30: =SUM(P30:T30) -> 0 | V30: =Consultants!AB9 -> 0 | W30: =Consultants!AB14 -> 0 | X30: =Consultants!AB19 -> 0 | Y30: =Consultants!AB24 -> 0 | Z30: =Consultants!AB29 -> 0 | AA30: =SUM(V30:Z30) -> 0 | AB30: =Consultants!AH9 -> 0 | AC30: =Consultants!AH14 -> 0 | AD30: =Consultants!AH19 -> 0 | AE30: =Consultants!AH24 -> 0 | AF30: =Consultants!AH29 -> 0 | AG30: =SUM(AB30:AF30) -> 0 | AH30: =Consultants!AN9 -> 0 | AI30: =Consultants!AN14 -> 0 | AJ30: =Consultants!AN19 -> 0 | AK30: =Consultants!AN24 -> 0 | AL30: =Consultants!AN29 -> 0 | AM30: =SUM(AH30:AL30) -> 0 | AN30: =D30+J30+P30+V30+AB30+AH30 -> 0 | AO30: =E30+K30+Q30+W30+AC30+AI30 -> 0 | AP30: =F30+L30+R30+X30+AD30+AJ30 -> 0 | AQ30: =G30+M30+S30+Y30+AE30+AK30 -> 0 | AR30: =H30+N30+T30+Z30+AF30+AL30 -> 0 | AS30: =SUM(AN30:AR30) -> 0
B31: =Consultants!B10 -> 0 | D31: =Consultants!J10 -> 0 | E31: =Consultants!J15 -> 0 | F31: =Consultants!J20 -> 0 | G31: =Consultants!J25 -> 0 | H31: =Consultants!J30 -> 0 | I31: =SUM(D31:H31) -> 0 | J31: =Consultants!P10 -> 0 | K31: =Consultants!P15 -> 0 | L31: =Consultants!P20 -> 0 | M31: =Consultants!P25 -> 0 | N31: =Consultants!P30 -> 0 | O31: =SUM(J31:N31) -> 0 | P31: =Consultants!V10 -> 0 | Q31: =Consultants!V15 -> 0 | R31: =Consultants!V20 -> 0 | S31: =Consultants!V25 -> 0 | T31: =Consultants!V30 -> 0 | U31: =SUM(P31:T31) -> 0 | V31: =Consultants!AB10 -> 0 | W31: =Consultants!AB15 -> 0 | X31: =Consultants!AB20 -> 0 | Y31: =Consultants!AB25 -> 0 | Z31: =Consultants!AB30 -> 0 | AA31: =SUM(V31:Z31) -> 0 | AB31: =Consultants!AH10 -> 0 | AC31: =Consultants!AH15 -> 0 | AD31: =Consultants!AH20 -> 0 | AE31: =Consultants!AH25 -> 0 | AF31: =Consultants!AH30 -> 0 | AG31: =SUM(AB31:AF31) -> 0 | AH31: =Consultants!AN10 -> 0 | AI31: =Consultants!AN15 -> 0 | AJ31: =Consultants!AN20 -> 0 | AK31: =Consultants!AN25 -> 0 | AL31: =Consultants!AN30 -> 0 | AM31: =SUM(AH31:AL31) -> 0 | AN31: =D31+J31+P31+V31+AB31+AH31 -> 0 | AO31: =E31+K31+Q31+W31+AC31+AI31 -> 0 | AP31: =F31+L31+R31+X31+AD31+AJ31 -> 0 | AQ31: =G31+M31+S31+Y31+AE31+AK31 -> 0 | AR31: =H31+N31+T31+Z31+AF31+AL31 -> 0 | AS31: =SUM(AN31:AR31) -> 0
B32: =Consultants!B11 -> 0 | D32: =Consultants!J11 -> 0 | E32: =Consultants!J16 -> 0 | F32: =Consultants!J21 -> 0 | G32: =Consultants!J26 -> 0 | H32: =Consultants!J31 -> 0 | I32: =SUM(D32:H32) -> 0 | J32: =Consultants!P11 -> 0 | K32: =Consultants!P16 -> 0 | L32: =Consultants!P21 -> 0 | M32: =Consultants!P26 -> 0 | N32: =Consultants!P31 -> 0 | O32: =SUM(J32:N32) -> 0 | P32: =Consultants!V11 -> 0 | Q32: =Consultants!V16 -> 0 | R32: =Consultants!V21 -> 0 | S32: =Consultants!V26 -> 0 | T32: =Consultants!V31 -> 0 | U32: =SUM(P32:T32) -> 0 | V32: =Consultants!AB11 -> 0 | W32: =Consultants!AB16 -> 0 | X32: =Consultants!AB21 -> 0 | Y32: =Consultants!AB26 -> 0 | Z32: =Consultants!AB31 -> 0 | AA32: =SUM(V32:Z32) -> 0 | AB32: =Consultants!AH11 -> 0 | AC32: =Consultants!AH16 -> 0 | AD32: =Consultants!AH21 -> 0 | AE32: =Consultants!AH26 -> 0 | AF32: =Consultants!AH31 -> 0 | AG32: =SUM(AB32:AF32) -> 0 | AH32: =Consultants!AN11 -> 0 | AI32: =Consultants!AN16 -> 0 | AJ32: =Consultants!AN21 -> 0 | AK32: =Consultants!AN26 -> 0 | AL32: =Consultants!AN31 -> 0 | AM32: =SUM(AH32:AL32) -> 0 | AN32: =D32+J32+P32+V32+AB32+AH32 -> 0 | AO32: =E32+K32+Q32+W32+AC32+AI32 -> 0 | AP32: =F32+L32+R32+X32+AD32+AJ32 -> 0 | AQ32: =G32+M32+S32+Y32+AE32+AK32 -> 0 | AR32: =H32+N32+T32+Z32+AF32+AL32 -> 0 | AS32: =SUM(AN32:AR32) -> 0
A33: TOTAL CONSULTANT COSTS | D33: =SUM(D29:D32) -> 14000 | E33: =SUM(E29:E32) -> 14000 | F33: =SUM(F29:F32) -> 14000 | G33: =SUM(G29:G32) -> 14000 | H33: =SUM(H29:H32) -> 14000 | I33: =SUM(I29:I32) -> 70000 | J33: =SUM(J29:J32) -> 14000 | K33: =SUM(K29:K32) -> 14000 | ... AM33: =SUM(AM29:AM32) -> 70000 | AN33: =D33+J33+P33+V33+AB33+AH33 -> 84000 | AO33: =E33+K33+Q33+W33+AC33+AI33 -> 84000 | AP33: =F33+L33+R33+X33+AD33+AJ33 -> 84000 | AQ33: =G33+M33+S33+Y33+AE33+AK33 -> 84000 | AR33: =H33+N33+T33+Z33+AF33+AL33 -> 84000 | AS33: =SUM(AN33:AR33) -> 420000
A34: OTHER DIRECT COSTS
B35: Materials and Supplies | D35: =Supplies!G13 -> 3000 | E35: =Supplies!G19 -> 3000 | F35: =Supplies!G25 -> 3000 | G35: =Supplies!G31 -> 3000 | H35: =Supplies!G37 -> 3000 | I35: =SUM(D35:H35) -> 15000 | J35: =Supplies!J13 -> 3000 | K35: =Supplies!J19 -> 3000 | L35: =Supplies!J25 -> 3000 | M35: =Supplies!J31 -> 3000 | N35: =Supplies!J37 -> 3000 | O35: =SUM(J35:N35) -> 15000 | P35: =Supplies!M13 -> 3000 | Q35: =Supplies!M19 -> 3000 | R35: =Supplies!M25 -> 3000 | S35: =Supplies!M31 -> 3000 | T35: =Supplies!M37 -> 3000 | U35: =SUM(P35:T35) -> 15000 | V35: =Supplies!P13 -> 3000 | W35: =Supplies!P19 -> 3000 | X35: =Supplies!P25 -> 3000 | Y35: =Supplies!P31 -> 3000 | Z35: =Supplies!P37 -> 3000 | AA35: =SUM(V35:Z35) -> 15000 | AB35: =Supplies!S13 -> 3000 | AC35: =Supplies!S19 -> 3000 | AD35: =Supplies!S25 -> 3000 | AE35: =Supplies!S31 -> 3000 | AF35: =Supplies!V37 -> 3000 | AG35: =SUM(AB35:AF35) -> 15000 | AH35: =Supplies!V13 -> 3000 | AI35: =Supplies!V19 -> 3000 | AJ35: =Supplies!V25 -> 3000 | AK35: =Supplies!V31 -> 3000 | AL35: =Supplies!V37 -> 3000 | AM35: =SUM(AH35:AL35) -> 15000 | AN35: =D35+J35+P35+V35+AB35+AH35 -> 18000 | AO35: =E35+K35+Q35+W35+AC35+AI35 -> 18000 | AP35: =F35+L35+R35+X35+AD35+AJ35 -> 18000 | AQ35: =G35+M35+S35+Y35+AE35+AK35 -> 18000 | AR35: =H35+N35+T35+Z35+AF35+AL35 -> 18000 | AS35: =SUM(AN35:AR35) -> 90000
B36: Equipment | D36: =Equipment!G13 -> 6500 | E36: =Equipment!G19 -> 0 | F36: =Equipment!G25 -> 0 | G36: =Equipment!G31 -> 0 | H36: =Equipment!G37 -> 0 | I36: =SUM(D36:H36) -> 6500 | J36: =Equipment!J13 -> 6500 | K36: =Equipment!J19 -> 0 | L36: =Equipment!J25 -> 0 | M36: =Equipment!J31 -> 0 | N36: =Equipment!J37 -> 0 | O36: =SUM(J36:N36) -> 6500 | P36: =Equipment!M13 -> 6500 | Q36: =Equipment!M19 -> 0 | R36: =Equipment!M25 -> 0 | S36: =Equipment!M31 -> 0 | T36: =Equipment!M37 -> 0 | U36: =SUM(P36:T36) -> 6500 | V36: =Equipment!P13 -> 6500 | W36: =Equipment!P19 -> 0 | X36: =Equipment!P25 -> 0 | Y36: =Equipment!P31 -> 0 | Z36: =Equipment!P37 -> 0 | AA36: =SUM(V36:Z36) -> 6500 | AB36: =Equipment!S13 -> 6500 | AC36: =Equipment!S19 -> 0 | AD36: =Equipment!S25 -> 0 | AE36: =Equipment!S31 -> 0 | AF36: =Equipment!S37 -> 0 | AG36: =SUM(AB36:AF36) -> 6500 | AH36: =Equipment!V13 -> 6500 | AI36: =Equipment!V19 -> 0 | AJ36: =Equipment!V25 -> 0 | AK36: =Equipment!V31 -> 0 | AL36: =Equipment!V37 -> 0 | AM36: =SUM(AH36:AL36) -> 6500 | AN36: =D36+J36+P36+V36+AB36+AH36 -> 39000 | AO36: =E36+K36+Q36+W36+AC36+AI36 -> 0 | AP36: =F36+L36+R36+X36+AD36+AJ36 -> 0 | AQ36: =G36+M36+S36+Y36+AE36+AK36 -> 0 | AR36: =H36+N36+T36+Z36+AF36+AL36 -> 0 | AS36: =SUM(AN36:AR36) -> 39000
B37: Travel | D37: =Travel!AD10 -> 4350 | E37: =Travel!AD13 -> 0 | F37: =Travel!AD16 -> 0 | G37: =Travel!AD19 -> 0 | H37: =Travel!AD22 -> 0 | I37: =SUM(D37:H37) -> 4350 | J37: =Travel!AD26 -> 4350 | K37: =Travel!AD29 -> 0 | L37: =Travel!AD32 -> 0 | M37: =Travel!AD35 -> 0 | N37: =Travel!AD38 -> 0 | O37: =SUM(J37:N37) -> 4350 | P37: =Travel!AD42 -> 4350 | Q37: =Travel!AD45 -> 0 | R37: =Travel!AD48 -> 0 | S37: =Travel!AD51 -> 0 | T37: =Travel!AD54 -> 0 | U37: =SUM(P37:T37) -> 4350 | V37: =Travel!AD58 -> 4350 | W37: =Travel!AD61 -> 0 | X37: =Travel!AD64 -> 0 | Y37: =Travel!AD67 -> 0 | Z37: =Travel!AD70 -> 0 | AA37: =SUM(V37:Z37) -> 4350 | AB37: =Travel!AD74 -> 4350 | AC37: =Travel!AD77 -> 0 | AD37: =Travel!AD80 -> 0 | AE37: =Travel!AD83 -> 0 | AF37: =Travel!AD86 -> 0 | AG37: =SUM(AB37:AF37) -> 4350 | AH37: =Travel!AD90 -> 4350 | AI37: =Travel!AD93 -> 0 | AJ37: =Travel!AD96 -> 0 | AK37: =Travel!AD99 -> 0 | AL37: =Travel!AD102 -> 0 | AM37: =SUM(AH37:AL37) -> 4350 | AN37: =D37+J37+P37+V37+AB37+AH37 -> 26100 | AO37: =E37+K37+Q37+W37+AC37+AI37 -> 0 | AP37: =F37+L37+R37+X37+AD37+AJ37 -> 0 | AQ37: =G37+M37+S37+Y37+AE37+AK37 -> 0 | AR37: =H37+N37+T37+Z37+AF37+AL37 -> 0 | AS37: =SUM(AN37:AR37) -> 26100
B38: =CONCATENATE("List ODC: ", ODC!B8) -> List ODC: Example. GSR Tuition | D38: =ODC!G8 -> 75000 | E38: =ODC!G13 -> 0 | F38: =ODC!G18 -> 0 | G38: =ODC!G23 -> 0 | H38: =ODC!G28 -> 0 | I38: =SUM(D38:H38) -> 75000 | J38: =ODC!J8 -> 75000 | K38: =ODC!J13 -> 0 | L38: =ODC!J18 -> 0 | M38: =ODC!J23 -> 0 | N38: =ODC!J28 -> 0 | O38: =SUM(J38:N38) -> 75000 | P38: =ODC!M8 -> 75000 | Q38: =ODC!M13 -> 0 | R38: =ODC!M18 -> 0 | S38: =ODC!M23 -> 0 | T38: =ODC!M28 -> 0 | U38: =SUM(P38:T38) -> 75000 | V38: =ODC!P8 -> 75000 | W38: =ODC!P13 -> 0 | X38: =ODC!P18 -> 0 | Y38: =ODC!P23 -> 0 | Z38: =ODC!P28 -> 0 | AA38: =SUM(V38:Z38) -> 75000 | AB38: =ODC!S8 -> 75000 | AC38: =ODC!S13 -> 0 | AD38: =ODC!S18 -> 0 | AE38: =ODC!S23 -> 0 | AF38: =ODC!S28 -> 0 | AG38: =SUM(AB38:AF38) -> 75000 | AH38: =ODC!V8 -> 75000 | AI38: =ODC!V13 -> 0 | AJ38: =ODC!V18 -> 0 | AK38: =ODC!V23 -> 0 | AL38: =ODC!V28 -> 0 | AM38: =SUM(AH38:AL38) -> 75000 | AN38: =D38+J38+P38+V38+AB38+AH38 -> 450000 | AO38: =E38+K38+Q38+W38+AC38+AI38 -> 0 | AP38: =F38+L38+R38+X38+AD38+AJ38 -> 0 | AQ38: =G38+M38+S38+Y38+AE38+AK38 -> 0 | AR38: =H38+N38+T38+Z38+AF38+AL38 -> 0 | AS38: =SUM(AN38:AR38) -> 450000
B39: =CONCATENATE("List ODC: ", ODC!B9) -> List ODC: Flow cytometry core | D39: =ODC!G9 -> 12000 | E39: =ODC!G14 -> 0 | F39: =ODC!G19 -> 0 | G39: =ODC!G24 -> 0 | H39: =ODC!G29 -> 0 | I39: =SUM(D39:H39) -> 12000 | J39: =ODC!J9 -> 12000 | K39: =ODC!J14 -> 0 | L39: =ODC!J19 -> 0 | M39: =ODC!J24 -> 0 | N39: =ODC!J29 -> 0 | O39: =SUM(J39:N39) -> 12000 | P39: =ODC!M9 -> 12000 | Q39: =ODC!M14 -> 0 | R39: =ODC!M19 -> 0 | S39: =ODC!M24 -> 0 | T39: =ODC!M29 -> 0 | U39: =SUM(P39:T39) -> 12000 | V39: =ODC!P9 -> 12000 | W39: =ODC!P14 -> 0 | X39: =ODC!P19 -> 0 | Y39: =ODC!P24 -> 0 | Z39: =ODC!P29 -> 0 | AA39: =SUM(V39:Z39) -> 12000 | AB39: =ODC!S9 -> 12000 | AC39: =ODC!S14 -> 0 | AD39: =ODC!S19 -> 0 | AE39: =ODC!S24 -> 0 | AF39: =ODC!S29 -> 0 | AG39: =SUM(AB39:AF39) -> 12000 | AH39: =ODC!V9 -> 12000 | AI39: =ODC!V14 -> 0 | AJ39: =ODC!V19 -> 0 | AK39: =ODC!V24 -> 0 | AL39: =ODC!V29 -> 0 | AM39: =SUM(AH39:AL39) -> 12000 | AN39: =D39+J39+P39+V39+AB39+AH39 -> 72000 | AO39: =E39+K39+Q39+W39+AC39+AI39 -> 0 | AP39: =F39+L39+R39+X39+AD39+AJ39 -> 0 | AQ39: =G39+M39+S39+Y39+AE39+AK39 -> 0 | AR39: =H39+N39+T39+Z39+AF39+AL39 -> 0 | AS39: =SUM(AN39:AR39) -> 72000
B40: =CONCATENATE("List ODC: ", ODC!B10) -> List ODC: | D40: =ODC!G10 -> 0 | E40: =ODC!G15 -> 0 | F40: =ODC!G20 -> 0 | G40: =ODC!G25 -> 0 | H40: =ODC!G30 -> 0 | I40: =SUM(D40:H40) -> 0 | J40: =ODC!J10 -> 0 | K40: =ODC!J15 -> 0 | L40: =ODC!J20 -> 0 | M40: =ODC!J25 -> 0 | N40: =ODC!J30 -> 0 | O40: =SUM(J40:N40) -> 0 | P40: =ODC!M10 -> 0 | Q40: =ODC!M15 -> 0 | R40: =ODC!M20 -> 0 | S40: =ODC!M25 -> 0 | T40: =ODC!M30 -> 0 | U40: =SUM(P40:T40) -> 0 | V40: =ODC!P10 -> 0 | W40: =ODC!P15 -> 0 | X40: =ODC!P20 -> 0 | Y40: =ODC!P25 -> 0 | Z40: =ODC!P30 -> 0 | AA40: =SUM(V40:Z40) -> 0 | AB40: =ODC!S10 -> 0 | AC40: =ODC!S15 -> 0 | AD40: =ODC!S20 -> 0 | AE40: =ODC!S25 -> 0 | AF40: =ODC!S30 -> 0 | AG40: =SUM(AB40:AF40) -> 0 | AH40: =ODC!V10 -> 0 | AI40: =ODC!V15 -> 0 | AJ40: =ODC!V20 -> 0 | AK40: =ODC!V25 -> 0 | AL40: =ODC!V30 -> 0 | AM40: =SUM(AH40:AL40) -> 0 | AN40: =D40+J40+P40+V40+AB40+AH40 -> 0 | AO40: =E40+K40+Q40+W40+AC40+AI40 -> 0 | AP40: =F40+L40+R40+X40+AD40+AJ40 -> 0 | AQ40: =G40+M40+S40+Y40+AE40+AK40 -> 0 | AR40: =H40+N40+T40+Z40+AF40+AL40 -> 0 | AS40: =SUM(AN40:AR40) -> 0
B41: =CONCATENATE("List ODC: ", ODC!B11) -> List ODC: | D41: =ODC!G11 -> 0 | E41: =ODC!G16 -> 0 | F41: =ODC!G21 -> 0 | G41: =ODC!G26 -> 0 | H41: =ODC!G31 -> 0 | I41: =SUM(D41:H41) -> 0 | J41: =ODC!J11 -> 0 | K41: =ODC!J16 -> 0 | L41: =ODC!J21 -> 0 | M41: =ODC!J26 -> 0 | N41: =ODC!J31 -> 0 | O41: =SUM(J41:N41) -> 0 | P41: =ODC!M11 -> 0 | Q41: =ODC!M16 -> 0 | R41: =ODC!M21 -> 0 | S41: =ODC!M26 -> 0 | T41: =ODC!M31 -> 0 | U41: =SUM(P41:T41) -> 0 | V41: =ODC!P11 -> 0 | W41: =ODC!P16 -> 0 | X41: =ODC!P21 -> 0 | Y41: =ODC!P26 -> 0 | Z41: =ODC!P31 -> 0 | AA41: =SUM(V41:Z41) -> 0 | AB41: =ODC!S11 -> 0 | AC41: =ODC!S16 -> 0 | AD41: =ODC!S21 -> 0 | AE41: =ODC!S26 -> 0 | AF41: =ODC!S31 -> 0 | AG41: =SUM(AB41:AF41) -> 0 | AH41: =ODC!V11 -> 0 | AI41: =ODC!V16 -> 0 | AJ41: =ODC!V21 -> 0 | AK41: =ODC!V26 -> 0 | AL41: =ODC!V31 -> 0 | AM41: =SUM(AH41:AL41) -> 0 | AN41: =D41+J41+P41+V41+AB41+AH41 -> 0 | AO41: =E41+K41+Q41+W41+AC41+AI41 -> 0 | AP41: =F41+L41+R41+X41+AD41+AJ41 -> 0 | AQ41: =G41+M41+S41+Y41+AE41+AK41 -> 0 | AR41: =H41+N41+T41+Z41+AF41+AL41 -> 0 | AS41: =SUM(AN41:AR41) -> 0
A42: TOTAL OTHER DIRECT COSTS | D42: =SUM(D35:D41) -> 100850 | E42: =SUM(E35:E41) -> 3000 | F42: =SUM(F35:F41) -> 3000 | G42: =SUM(G35:G41) -> 3000 | H42: =SUM(H35:H41) -> 3000 | I42: =SUM(I35:I41) -> 112850 | J42: =SUM(J35:J41) -> 100850 | K42: =SUM(K35:K41) -> 3000 | ... AM42: =SUM(AM35:AM41) -> 112850 | AN42: =D42+J42+P42+V42+AB42+AH42 -> 605100 | AO42: =E42+K42+Q42+W42+AC42+AI42 -> 18000 | AP42: =F42+L42+R42+X42+AD42+AJ42 -> 18000 | AQ42: =G42+M42+S42+Y42+AE42+AK42 -> 18000 | AR42: =H42+N42+T42+Z42+AF42+AL42 -> 18000 | AS42: =SUM(AN42:AR42) -> 677100
...

Sheet Personnel
A1: SUMMARY OF PROPOSED COSTS | G1: Instructions:
A2: UNIVERSITY OF | G2: 1. This is the default format to submit for Volume I Basis of Estimate
A3: PI: | G3: 2. Any supporting documents provided with Volume I BOE submission will be included with Volume I application.
A4: PROJECT PERIOD: | G4: 3. Remove empty rows and copy paste the table below to the Volume I BOE document (can be done in segments)
A6: LABOR BUDGET | D6: * | F6: YEAR 1 | O6: YEAR 2 | X6: YEAR 3 | AG6: YEAR 4 | AP6: YEAR 5 | AY6: YEAR 6 | BH6: TOTAL
A7: Technical Areas | B7: Personnel | C7: Role | D7: Effort | E7: Fulltime Salary Rate | F7: Labor Hours | G7: Hourly Labor Rate | H7: Direct Labor Cost | I7: Fringe Benefits Rate | J7: Fringe Benefit Cost | K7: Total Labor Cost | L7: F&A on Labor Costs | M7: Burdened Labor Costs | O7: Labor Hours | P7: Hourly Labor Rate | Q7: Direct Labor Cost | R7: Fringe Benefits Rate | S7: Fringe Benefit Cost | T7: Total Labor Cost | U7: F&A | V7: Burdened Labor Costs | X7: Labor Hours | Y7: Hourly Labor Rate | Z7: Direct Labor Cost | AA7: Fringe Benefits Rate | AB7: Fringe Benefit Cost | AC7: Total Labor Cost | AD7: F&A | AE7: Burdened Labor Costs | AG7: Labor Hours | AH7: Hourly Labor Rate | AI7: Direct Labor Cost | AJ7: Fringe Benefits Rate | AK7: Fringe Benefit Cost | AL7: Total Labor Cost | AM7: F&A | AN7: Burdened Labor Costs | AP7: Labor Hours | AQ7: Hourly Labor Rate | AR7: Direct Labor Cost | AS7: Fringe Benefits Rate | AT7: Fringe Benefit Cost | AU7: Total Labor Cost | AV7: F&A | AW7: Burdened Labor Costs | AY7: Labor Hours | AZ7: Hourly Labor Rate | BA7: Direct Labor Cost | BB7: Fringe Benefits Rate | BC7: Fringe Benefit Cost | BD7: Total Labor Cost | BE7: F&A | BF7: Burdened Labor Costs | BH7: Total Direct Labor | BI7: Total Fringe Benefits | BJ7: Total Labor Cost | BK7: F&A | BL7: Burdened Labor Costs
A8: TA1 | B8: John Doe | C8: Principal Investigator | D8: 0.05 | E8: 212100 | F8: =2080*D8 -> 104 | G8: =E8/2080 -> 101.97115 | H8: =ROUND(F8*G8,0) -> 10605 | I8: 0.3652 | J8: =ROUND(H8*I8,0) -> 3873 | K8: =H8+J8 -> 14478 | L8: =ROUND(K8*$C$81,0) -> 8672 | M8: =K8+L8 -> 23150 | O8: =F8 -> 104 | P8: =G8*(1+$C$75) -> 105.03029 | Q8: =ROUND(O8*P8,0) -> 10923 | R8: =I8*(1+$C$75) -> 0.376156 | S8: =ROUND(Q8*R8,0) -> 4109 | T8: =Q8+S8 -> 15032 | U8: =ROUND(T8*$C$81,0) -> 9004 | V8: =T8+U8 -> 24036 | X8: =O8 -> 104 | Y8: =P8*(1+$C$75) -> 108.1812 | Z8: =ROUND(X8*Y8,0) -> 11251 | AA8: =R8*(1+$C$75) -> 0.38744068 | AB8: =ROUND(Z8*AA8,0) -> 4359 | AC8: =Z8+AB8 -> 15610 | AD8: =ROUND(AC8*$C$81,0) -> 9350 | AE8: =AC8+AD8 -> 24960 | AG8: =X8 -> 104 | AH8: =Y8*(1+$C$75) -> 111.42663 | AI8: =ROUND(AG8*AH8,0) -> 11588 | AJ8: =AA8*(1+$C$75) -> 0.3990639 | AK8: =ROUND(AI8*AJ8,0) -> 4624 | AL8: =AI8+AK8 -> 16212 | AM8: =ROUND(AL8*$C$81,0) -> 9711 | AN8: =AL8+AM8 -> 25923 | AP8: =AG8 -> 104 | AQ8: =AH8*(1+$C$75) -> 114.76943 | AR8: =ROUND(AP8*AQ8,0) -> 11936 | AS8: =AJ8*(1+$C$75) -> 0.41103582 | AT8: =ROUND(AR8*AS8,0) -> 4906 | AU8: =AR8+AT8 -> 16842 | AV8: =ROUND(AU8*$C$81,0) -> 10088 | AW8: =AU8+AV8 -> 26930 | AY8: =AP8 -> 104 | AZ8: =AQ8*(1+$C$75) -> 118.21251 | BA8: =ROUND(AY8*AZ8,0) -> 12294 | BB8: =AS8*(1+$C$75) -> 0.42336689 | BC8: =ROUND(BA8*BB8,0) -> 5205 | BD8: =BA8+BC8 -> 17499 | BE8: =ROUND(BD8*$C$81,0) -> 10482 | BF8: =BD8+BE8 -> 27981 | BH8: =H8+Q8+Z8+AI8+AR8+BA8 -> 68597 | BI8: =J8+S8+AB8+AK8+AT8+BC8 -> 27076 | BJ8: =K8+T8+AC8+AL8+AU8+BD8 -> 95673 | BK8: =L8+U8+AD8+AM8+AV8+BE8 -> 57307 | BL8: =M8+V8+AE8+AN8+AW8+BF8 -> 152980
B9: Jane Doe | C9: Co-Investigator | D9: 0.025 | E9: 150000 | F9: =2080*D9 -> 52 | G9: =E9/2080 -> 72.115385 | H9: =ROUND(F9*G9,0) -> 3750 | I9: 0.3652 | J9: =ROUND(H9*I9,0) -> 1370 | K9: =H9+J9 -> 5120 | L9: =ROUND(K9*$C$81,0) -> 3067 | M9: =K9+L9 -> 8187 | O9: =F9 -> 52 | P9: =G9*(1+$C$75) -> 74.278846 | Q9: =ROUND(O9*P9,0) -> 3863 | R9: =I9*(1+$C$75) -> 0.376156 | S9: =ROUND(Q9*R9,0) -> 1453 | T9: =Q9+S9 -> 5316 | U9: =ROUND(T9*$C$81,0) -> 3184 | V9: =T9+U9 -> 8500 | X9: =O9 -> 52 | Y9: =P9*(1+$C$75) -> 76.507212 | Z9: =ROUND(X9*Y9,0) -> 3978 | AA9: =R9*(1+$C$75) -> 0.38744068 | AB9: =ROUND(Z9*AA9,0) -> 1541 | AC9: =Z9+AB9 -> 5519 | AD9: =ROUND(AC9*$C$81,0) -> 3306 | AE9: =AC9+AD9 -> 8825 | AG9: =X9 -> 52 | AH9: =Y9*(1+$C$75) -> 78.802428 | AI9: =ROUND(AG9*AH9,0) -> 4098 | AJ9: =AA9*(1+$C$75) -> 0.3990639 | AK9: =ROUND(AI9*AJ9,0) -> 1635 | AL9: =AI9+AK9 -> 5733 | AM9: =ROUND(AL9*$C$81,0) -> 3434 | AN9: =AL9+AM9 -> 9167 | AP9: =AG9 -> 52 | AQ9: =AH9*(1+$C$75) -> 81.166501 | AR9: =ROUND(AP9*AQ9,0) -> 4221 | AS9: =AJ9*(1+$C$75) -> 0.41103582 | AT9: =ROUND(AR9*AS9,0) -> 1735 | AU9: =AR9+AT9 -> 5956 | AV9: =ROUND(AU9*$C$81,0) -> 3568 | AW9: =AU9+AV9 -> 9524 | AY9: =AP9 -> 52 | AZ9: =AQ9*(1+$C$75) -> 83.601496 | BA9: =ROUND(AY9*AZ9,0) -> 4347 | BB9: =AS9*(1+$C$75) -> 0.42336689 | BC9: =ROUND(BA9*BB9,0) -> 1840 | BD9: =BA9+BC9 -> 6187 | BE9: =ROUND(BD9*$C$81,0) -> 3706 | BF9: =BD9+BE9 -> 9893 | BH9: =H9+Q9+Z9+AI9+AR9+BA9 -> 24257 | BI9: =J9+S9+AB9+AK9+AT9+BC9 -> 9574 | BJ9: =K9+T9+AC9+AL9+AU9+BD9 -> 33831 | BK9: =L9+U9+AD9+AM9+AV9+BE9 -> 20265 | BL9: =M9+V9+AE9+AN9+AW9+BF9 -> 54096
F10: =2080*D10 -> 0 | G10: =E10/2080 -> 0 | H10: =ROUND(F10*G10,0) -> 0 | I10: 0.3652 | J10: =ROUND(H10*I10,0) -> 0 | K10: =H10+J10 -> 0 | L10: =ROUND(K10*$C$81,0) -> 0 | M10: =K10+L10 -> 0 | O10: =F10 -> 0 | P10: =G10*(1+$C$75) -> 0 | Q10: =ROUND(O10*P10,0) -> 0 | R10: =I10*(1+$C$75) -> 0.376156 | S10: =ROUND(Q10*R10,0) -> 0 | T10: =Q10+S10 -> 0 | U10: =ROUND(T10*$C$81,0) -> 0 | V10: =T10+U10 -> 0 | X10: =O10 -> 0 | Y10: =P10*(1+$C$75) -> 0 | Z10: =ROUND(X10*Y10,0) -> 0 | AA10: =R10*(1+$C$75) -> 0.38744068 | AB10: =ROUND(Z10*AA10,0) -> 0 | AC10: =Z10+AB10 -> 0 | AD10: =ROUND(AC10*$C$81,0) -> 0 | AE10: =AC10+AD10 -> 0 | AG10: =X10 -> 0 | AH10: =Y10*(1+$C$75) -> 0 | AI10: =ROUND(AG10*AH10,0) -> 0 | AJ10: =AA10*(1+$C$75) -> 0.3990639 | AK10: =ROUND(AI10*AJ10,0) -> 0 | AL10: =AI10+AK10 -> 0 | AM10: =ROUND(AL10*$C$81,0) -> 0 | AN10: =AL10+AM10 -> 0 | AP10: =AG10 -> 0 | AQ10: =AH10*(1+$C$75) -> 0 | AR10: =ROUND(AP10*AQ10,0) -> 0 | AS10: =AJ10*(1+$C$75) -> 0.41103582 | AT10: =ROUND(AR10*AS10,0) -> 0 | AU10: =AR10+AT10 -> 0 | AV10: =ROUND(AU10*$C$81,0) -> 0 | AW10: =AU10+AV10 -> 0 | AY10: =AP10 -> 0 | AZ10: =AQ10*(1+$C$75) -> 0 | BA10: =ROUND(AY10*AZ10,0) -> 0 | BB10: =AS10*(1+$C$75) -> 0.42336689 | BC10: =ROUND(BA10*BB10,0) -> 0 | BD10: =BA10+BC10 -> 0 | BE10: =ROUND(BD10*$C$81,0) -> 0 | BF10: =BD10+BE10 -> 0 | BH10: =H10+Q10+Z10+AI10+AR10+BA10 -> 0 | BI10: =J10+S10+AB10+AK10+AT10+BC10 -> 0 | BJ10: =K10+T10+AC10+AL10+AU10+BD10 -> 0 | BK10: =L10+U10+AD10+AM10+AV10+BE10 -> 0 | BL10: =M10+V10+AE10+AN10+AW10+BF10 -> 0
F11: =2080*D11 -> 0 | G11: =E11/2080 -> 0 | H11: =ROUND(F11*G11,0) -> 0 | I11: 0.3652 | J11: =ROUND(H11*I11,0) -> 0 | K11: =H11+J11 -> 0 | L11: =ROUND(K11*$C$81,0) -> 0 | M11: =K11+L11 -> 0 | O11: =F11 -> 0 | P11: =G11*(1+$C$75) -> 0 | Q11: =ROUND(O11*P11,0) -> 0 | R11: =I11*(1+$C$75) -> 0.376156 | S11: =ROUND(Q11*R11,0) -> 0 | T11: =Q11+S11 -> 0 | U11: =ROUND(T11*$C$81,0) -> 0 | V11: =T11+U11 -> 0 | X11: =O11 -> 0 | Y11: =P11*(1+$C$75) -> 0 | Z11: =ROUND(X11*Y11,0) -> 0 | AA11: =R11*(1+$C$75) -> 0.38744068 | AB11: =ROUND(Z11*AA11,0) -> 0 | AC11: =Z11+AB11 -> 0 | AD11: =ROUND(AC11*$C$81,0) -> 0 | AE11: =AC11+AD11 -> 0 | AG11: =X11 -> 0 | AH11: =Y11*(1+$C$75) -> 0 | AI11: =ROUND(AG11*AH11,0) -> 0 | AJ11: =AA11*(1+$C$75) -> 0.3990639 | AK11: =ROUND(AI11*AJ11,0) -> 0 | AL11: =AI11+AK11 -> 0 | AM11: =ROUND(AL11*$C$81,0) -> 0 | AN11: =AL11+AM11 -> 0 | AP11: =AG11 -> 0 | AQ11: =AH11*(1+$C$75) -> 0 | AR11: =ROUND(AP11*AQ11,0) -> 0 | AS11: =AJ11*(1+$C$75) -> 0.41103582 | AT11: =ROUND(AR11*AS11,0) -> 0 | AU11: =AR11+AT11 -> 0 | AV11: =ROUND(AU11*$C$81,0) -> 0 | AW11: =AU11+AV11 -> 0 | AY11: =AP11 -> 0 | AZ11: =AQ11*(1+$C$75) -> 0 | BA11: =ROUND(AY11*AZ11,0) -> 0 | BB11: =AS11*(1+$C$75) -> 0.42336689 | BC11: =ROUND(BA11*BB11,0) -> 0 | BD11: =BA11+BC11 -> 0 | BE11: =ROUND(BD11*$C$81,0) -> 0 | BF11: =BD11+BE11 -> 0 | BH11: =H11+Q11+Z11+AI11+AR11+BA11 -> 0 | BI11: =J11+S11+AB11+AK11+AT11+BC11 -> 0 | BJ11: =K11+T11+AC11+AL11+AU11+BD11 -> 0 | BK11: =L11+U11+AD11+AM11+AV11+BE11 -> 0 | BL11: =M11+V11+AE11+AN11+AW11+BF11 -> 0
F12: =2080*D12 -> 0 | G12: =E12/2080 -> 0 | H12: =ROUND(F12*G12,0) -> 0 | I12: 0.3652 | J12: =ROUND(H12*I12,0) -> 0 | K12: =H12+J12 -> 0 | L12: =ROUND(K12*$C$81,0) -> 0 | M12: =K12+L12 -> 0 | O12: =F12 -> 0 | P12: =G12*(1+$C$75) -> 0 | Q12: =ROUND(O12*P12,0) -> 0 | R12: =I12*(1+$C$75) -> 0.376156 | S12: =ROUND(Q12*R12,0) -> 0 | T12: =Q12+S12 -> 0 | U12: =ROUND(T12*$C$81,0) -> 0 | V12: =T12+U12 -> 0 | X12: =O12 -> 0 | Y12: =P12*(1+$C$75) -> 0 | Z12: =ROUND(X12*Y12,0) -> 0 | AA12: =R12*(1+$C$75) -> 0.38744068 | AB12: =ROUND(Z12*AA12,0) -> 0 | AC12: =Z12+AB12 -> 0 | AD12: =ROUND(AC12*$C$81,0) -> 0 | AE12: =AC12+AD12 -> 0 | AG12: =X12 -> 0 | AH12: =Y12*(1+$C$75) -> 0 | AI12: =ROUND(AG12*AH12,0) -> 0 | AJ12: =AA12*(1+$C$75) -> 0.3990639 | AK12: =ROUND(AI12*AJ12,0) -> 0 | AL12: =AI12+AK12 -> 0 | AM12: =ROUND(AL12*$C$81,0) -> 0 | AN12: =AL12+AM12 -> 0 | AP12: =AG12 -> 0 | AQ12: =AH12*(1+$C$75) -> 0 | AR12: =ROUND(AP12*AQ12,0) -> 0 | AS12: =AJ12*(1+$C$75) -> 0.41103582 | AT12: =ROUND(AR12*AS12,0) -> 0 | AU12: =AR12+AT12 -> 0 | AV12: =ROUND(AU12*$C$81,0) -> 0 | AW12: =AU12+AV12 -> 0 | AY12: =AP12 -> 0 | AZ12: =AQ12*(1+$C$75) -> 0 | BA12: =ROUND(AY12*AZ12,0) -> 0 | BB12: =AS12*(1+$C$75) -> 0.42336689 | BC12: =ROUND(BA12*BB12,0) -> 0 | BD12: =BA12+BC12 -> 0 | BE12: =ROUND(BD12*$C$81,0) -> 0 | BF12: =BD12+BE12 -> 0 | BH12: =H12+Q12+Z12+AI12+AR12+BA12 -> 0 | BI12: =J12+S12+AB12+AK12+AT12+BC12 -> 0 | BJ12: =K12+T12+AC12+AL12+AU12+BD12 -> 0 | BK12: =L12+U12+AD12+AM12+AV12+BE12 -> 0 | BL12: =M12+V12+AE12+AN12+AW12+BF12 -> 0
F13: =2080*D13 -> 0 | G13: =E13/2080 -> 0 | H13: =ROUND(F13*G13,0) -> 0 | I13: 0.3652 | J13: =ROUND(H13*I13,0) -> 0 | K13: =H13+J13 -> 0 | L13: =ROUND(K13*$C$81,0) -> 0 | M13: =K13+L13 -> 0 | O13: =F13 -> 0 | P13: =G13*(1+$C$75) -> 0 | Q13: =ROUND(O13*P13,0) -> 0 | R13: =I13*(1+$C$75) -> 0.376156 | S13: =ROUND(Q13*R13,0) -> 0 | T13: =Q13+S13 -> 0 | U13: =ROUND(T13*$C$81,0) -> 0 | V13: =T13+U13 -> 0 | X13: =O13 -> 0 | Y13: =P13*(1+$C$75) -> 0 | Z13: =ROUND(X13*Y13,0) -> 0 | AA13: =R13*(1+$C$75) -> 0.38744068 | AB13: =ROUND(Z13*AA13,0) -> 0 | AC13: =Z13+AB13 -> 0 | AD13: =ROUND(AC13*$C$81,0) -> 0 | AE13: =AC13+AD13 -> 0 | AG13: =X13 -> 0 | AH13: =Y13*(1+$C$75) -> 0 | AI13: =ROUND(AG13*AH13,0) -> 0 | AJ13: =AA13*(1+$C$75) -> 0.3990639 | AK13: =ROUND(AI13*AJ13,0) -> 0 | AL13: =AI13+AK13 -> 0 | AM13: =ROUND(AL13*$C$81,0) -> 0 | AN13: =AL13+AM13 -> 0 | AP13: =AG13 -> 0 | AQ13: =AH13*(1+$C$75) -> 0 | AR13: =ROUND(AP13*AQ13,0) -> 0 | AS13: =AJ13*(1+$C$75) -> 0.41103582 | AT13: =ROUND(AR13*AS13,0) -> 0 | AU13: =AR13+AT13 -> 0 | AV13: =ROUND(AU13*$C$81,0) -> 0 | AW13: =AU13+AV13 -> 0 | AY13: =AP13 -> 0 | AZ13: =AQ13*(1+$C$75) -> 0 | BA13: =ROUND(AY13*AZ13,0) -> 0 | BB13: =AS13*(1+$C$75) -> 0.42336689 | BC13: =ROUND(BA13*BB13,0) -> 0 | BD13: =BA13+BC13 -> 0 | BE13: =ROUND(BD13*$C$81,0) -> 0 | BF13: =BD13+BE13 -> 0 | BH13: =H13+Q13+Z13+AI13+AR13+BA13 -> 0 | BI13: =J13+S13+AB13+AK13+AT13+BC13 -> 0 | BJ13: =K13+T13+AC13+AL13+AU13+BD13 -> 0 | BK13: =L13+U13+AD13+AM13+AV13+BE13 -> 0 | BL13: =M13+V13+AE13+AN13+AW13+BF13 -> 0
F14: =2080*D14 -> 0 | G14: =E14/2080 -> 0 | H14: =ROUND(F14*G14,0) -> 0 | I14: 0.3652 | J14: =ROUND(H14*I14,0) -> 0 | K14: =H14+J14 -> 0 | L14: =ROUND(K14*$C$81,0) -> 0 | M14: =K14+L14 -> 0 | O14: =F14 -> 0 | P14: =G14*(1+$C$75) -> 0 | Q14: =ROUND(O14*P14,0) -> 0 | R14: =I14*(1+$C$75) -> 0.376156 | S14: =ROUND(Q14*R14,0) -> 0 | T14: =Q14+S14 -> 0 | U14: =ROUND(T14*$C$81,0) -> 0 | V14: =T14+U14 -> 0 | X14: =O14 -> 0 | Y14: =P14*(1+$C$75) -> 0 | Z14: =ROUND(X14*Y14,0) -> 0 | AA14: =R14*(1+$C$75) -> 0.38744068 | AB14: =ROUND(Z14*AA14,0) -> 0 | AC14: =Z14+AB14 -> 0 | AD14: =ROUND(AC14*$C$81,0) -> 0 | AE14: =AC14+AD14 -> 0 | AG14: =X14 -> 0 | AH14: =Y14*(1+$C$75) -> 0 | AI14: =ROUND(AG14*AH14,0) -> 0 | AJ14: =AA14*(1+$C$75) -> 0.3990639 | AK14: =ROUND(AI14*AJ14,0) -> 0 | AL14: =AI14+AK14 -> 0 | AM14: =ROUND(AL14*$C$81,0) -> 0 | AN14: =AL14+AM14 -> 0 | AP14: =AG14 -> 0 | AQ14: =AH14*(1+$C$75) -> 0 | AR14: =ROUND(AP14*AQ14,0) -> 0 | AS14: =AJ14*(1+$C$75) -> 0.41103582 | AT14: =ROUND(AR14*AS14,0) -> 0 | AU14: =AR14+AT14 -> 0 | AV14: =ROUND(AU14*$C$81,0) -> 0 | AW14: =AU14+AV14 -> 0 | AY14: =AP14 -> 0 | AZ14: =AQ14*(1+$C$75) -> 0 | BA14: =ROUND(AY14*AZ14,0) -> 0 | BB14: =AS14*(1+$C$75) -> 0.42336689 | BC14: =ROUND(BA14*BB14,0) -> 0 | BD14: =BA14+BC14 -> 0 | BE14: =ROUND(BD14*$C$81,0) -> 0 | BF14: =BD14+BE14 -> 0 | BH14: =H14+Q14+Z14+AI14+AR14+BA14 -> 0 | BI14: =J14+S14+AB14+AK14+AT14+BC14 -> 0 | BJ14: =K14+T14+AC14+AL14+AU14+BD14 -> 0 | BK14: =L14+U14+AD14+AM14+AV14+BE14 -> 0 | BL14: =M14+V14+AE14+AN14+AW14+BF14 -> 0
F15: =2080*D15 -> 0 | G15: =E15/2080 -> 0 | H15: =ROUND(F15*G15,0) -> 0 | I15: 0.3652 | J15: =ROUND(H15*I15,0) -> 0 | K15: =H15+J15 -> 0 | L15: =ROUND(K15*$C$81,0) -> 0 | M15: =K15+L15 -> 0 | O15: =F15 -> 0 | P15: =G15*(1+$C$75) -> 0 | Q15: =ROUND(O15*P15,0) -> 0 | R15: =I15*(1+$C$75) -> 0.376156 | S15: =ROUND(Q15*R15,0) -> 0 | T15: =Q15+S15 -> 0 | U15: =ROUND(T15*$C$81,0) -> 0 | V15: =T15+U15 -> 0 | X15: =O15 -> 0 | Y15: =P15*(1+$C$75) -> 0 | Z15: =ROUND(X15*Y15,0) -> 0 | AA15: =R15*(1+$C$75) -> 0.38744068 | AB15: =ROUND(Z15*AA15,0) -> 0 | AC15: =Z15+AB15 -> 0 | AD15: =ROUND(AC15*$C$81,0) -> 0 | AE15: =AC15+AD15 -> 0 | AG15: =X15 -> 0 | AH15: =Y15*(1+$C$75) -> 0 | AI15: =ROUND(AG15*AH15,0) -> 0 | AJ15: =AA15*(1+$C$75) -> 0.3990639 | AK15: =ROUND(AI15*AJ15,0) -> 0 | AL15: =AI15+AK15 -> 0 | AM15: =ROUND(AL15*$C$81,0) -> 0 | AN15: =AL15+AM15 -> 0 | AP15: =AG15 -> 0 | AQ15: =AH15*(1+$C$75) -> 0 | AR15: =ROUND(AP15*AQ15,0) -> 0 | AS15: =AJ15*(1+$C$75) -> 0.41103582 | AT15: =ROUND(AR15*AS15,0) -> 0 | AU15: =AR15+AT15 -> 0 | AV15: =ROUND(AU15*$C$81,0) -> 0 | AW15: =AU15+AV15 -> 0 | AY15: =AP15 -> 0 | AZ15: =AQ15*(1+$C$75) -> 0 | BA15: =ROUND(AY15*AZ15,0) -> 0 | BB15: =AS15*(1+$C$75) -> 0.42336689 | BC15: =ROUND(BA15*BB15,0) -> 0 | BD15: =BA15+BC15 -> 0 | BE15: =ROUND(BD15*$C$81,0) -> 0 | BF15: =BD15+BE15 -> 0 | BH15: =H15+Q15+Z15+AI15+AR15+BA15 -> 0 | BI15: =J15+S15+AB15+AK15+AT15+BC15 -> 0 | BJ15: =K15+T15+AC15+AL15+AU15+BD15 -> 0 | BK15: =L15+U15+AD15+AM15+AV15+BE15 -> 0 | BL15: =M15+V15+AE15+AN15+AW15+BF15 -> 0
F16: =2080*D16 -> 0 | G16: =E16/2080 -> 0 | H16: =ROUND(F16*G16,0) -> 0 | I16: 0.3652 | J16: =ROUND(H16*I16,0) -> 0 | K16: =H16+J16 -> 0 | L16: =ROUND(K16*$C$81,0) -> 0 | M16: =K16+L16 -> 0 | O16: =F16 -> 0 | P16: =G16*(1+$C$75) -> 0 | Q16: =ROUND(O16*P16,0) -> 0 | R16: =I16*(1+$C$75) -> 0.376156 | S16: =ROUND(Q16*R16,0) -> 0 | T16: =Q16+S16 -> 0 | U16: =ROUND(T16*$C$81,0) -> 0 | V16: =T16+U16 -> 0 | X16: =O16 -> 0 | Y16: =P16*(1+$C$75) -> 0 | Z16: =ROUND(X16*Y16,0) -> 0 | AA16: =R16*(1+$C$75) -> 0.38744068 | AB16: =ROUND(Z16*AA16,0) -> 0 | AC16: =Z16+AB16 -> 0 | AD16: =ROUND(AC16*$C$81,0) -> 0 | AE16: =AC16+AD16 -> 0 | AG16: =X16 -> 0 | AH16: =Y16*(1+$C$75) -> 0 | AI16: =ROUND(AG16*AH16,0) -> 0 | AJ16: =AA16*(1+$C$75) -> 0.3990639 | AK16: =ROUND(AI16*AJ16,0) -> 0 | AL16: =AI16+AK16 -> 0 | AM16: =ROUND(AL16*$C$81,0) -> 0 | AN16: =AL16+AM16 -> 0 | AP16: =AG16 -> 0 | AQ16: =AH16*(1+$C$75) -> 0 | AR16: =ROUND(AP16*AQ16,0) -> 0 | AS16: =AJ16*(1+$C$75) -> 0.41103582 | AT16: =ROUND(AR16*AS16,0) -> 0 | AU16: =AR16+AT16 -> 0 | AV16: =ROUND(AU16*$C$81,0) -> 0 | AW16: =AU16+AV16 -> 0 | AY16: =AP16 -> 0 | AZ16: =AQ16*(1+$C$75) -> 0 | BA16: =ROUND(AY16*AZ16,0) -> 0 | BB16: =AS16*(1+$C$75) -> 0.42336689 | BC16: =ROUND(BA16*BB16,0) -> 0 | BD16: =BA16+BC16 -> 0 | BE16: =ROUND(BD16*$C$81,0) -> 0 | BF16: =BD16+BE16 -> 0 | BH16: =H16+Q16+Z16+AI16+AR16+BA16 -> 0 | BI16: =J16+S16+AB16+AK16+AT16+BC16 -> 0 | BJ16: =K16+T16+AC16+AL16+AU16+BD16 -> 0 | BK16: =L16+U16+AD16+AM16+AV16+BE16 -> 0 | BL16: =M16+V16+AE16+AN16+AW16+BF16 -> 0
F17: =2080*D17 -> 0 | G17: =E17/2080 -> 0 | H17: =ROUND(F17*G17,0) -> 0 | I17: 0.3652 | J17: =ROUND(H17*I17,0) -> 0 | K17: =H17+J17 -> 0 | L17: =ROUND(K17*$C$81,0) -> 0 | M17: =K17+L17 -> 0 | O17: =F17 -> 0 | P17: =G17*(1+$C$75) -> 0 | Q17: =ROUND(O17*P17,0) -> 0 | R17: =I17*(1+$C$75) -> 0.376156 | S17: =ROUND(Q17*R17,0) -> 0 | T17: =Q17+S17 -> 0 | U17: =ROUND(T17*$C$81,0) -> 0 | V17: =T17+U17 -> 0 | X17: =O17 -> 0 | Y17: =P17*(1+$C$75) -> 0 | Z17: =ROUND(X17*Y17,0) -> 0 | AA17: =R17*(1+$C$75) -> 0.38744068 | AB17: =ROUND(Z17*AA17,0) -> 0 | AC17: =Z17+AB17 -> 0 | AD17: =ROUND(AC17*$C$81,0) -> 0 | AE17: =AC17+AD17 -> 0 | AG17: =X17 -> 0 | AH17: =Y17*(1+$C$75) -> 0 | AI17: =ROUND(AG17*AH17,0) -> 0 | AJ17: =AA17*(1+$C$75) -> 0.3990639 | AK17: =ROUND(AI17*AJ17,0) -> 0 | AL17: =AI17+AK17 -> 0 | AM17: =ROUND(AL17*$C$81,0) -> 0 | AN17: =AL17+AM17 -> 0 | AP17: =AG17 -> 0 | AQ17: =AH17*(1+$C$75) -> 0 | AR17: =ROUND(AP17*AQ17,0) -> 0 | AS17: =AJ17*(1+$C$75) -> 0.41103582 | AT17: =ROUND(AR17*AS17,0) -> 0 | AU17: =AR17+AT17 -> 0 | AV17: =ROUND(AU17*$C$81,0) -> 0 | AW17: =AU17+AV17 -> 0 | AY17: =AP17 -> 0 | AZ17: =AQ17*(1+$C$75) -> 0 | BA17: =ROUND(AY17*AZ17,0) -> 0 | BB17: =AS17*(1+$C$75) -> 0.42336689 | BC17: =ROUND(BA17*BB17,0) -> 0 | BD17: =BA17+BC17 -> 0 | BE17: =ROUND(BD17*$C$81,0) -> 0 | BF17: =BD17+BE17 -> 0 | BH17: =H17+Q17+Z17+AI17+AR17+BA17 -> 0 | BI17: =J17+S17+AB17+AK17+AT17+BC17 -> 0 | BJ17: =K17+T17+AC17+AL17+AU17+BD17 -> 0 | BK17: =L17+U17+AD17+AM17+AV17+BE17 -> 0 | BL17: =M17+V17+AE17+AN17+AW17+BF17 -> 0
F18: =2080*D18 -> 0 | G18: =E18/2080 -> 0 | H18: =ROUND(F18*G18,0) -> 0 | I18: 0.3652 | J18: =ROUND(H18*I18,0) -> 0 | K18: =H18+J18 -> 0 | L18: =ROUND(K18*$C$81,0) -> 0 | M18: =K18+L18 -> 0 | O18: =F18 -> 0 | P18: =G18*(1+$C$75) -> 0 | Q18: =ROUND(O18*P18,0) -> 0 | R18: =I18*(1+$C$75) -> 0.376156 | S18: =ROUND(Q18*R18,0) -> 0 | T18: =Q18+S18 -> 0 | U18: =ROUND(T18*$C$81,0) -> 0 | V18: =T18+U18 -> 0 | X18: =O18 -> 0 | Y18: =P18*(1+$C$75) -> 0 | Z18: =ROUND(X18*Y18,0) -> 0 | AA18: =R18*(1+$C$75) -> 0.38744068 | AB18: =ROUND(Z18*AA18,0) -> 0 | AC18: =Z18+AB18 -> 0 | AD18: =ROUND(AC18*$C$81,0) -> 0 | AE18: =AC18+AD18 -> 0 | AG18: =X18 -> 0 | AH18: =Y18*(1+$C$75) -> 0 | AI18: =ROUND(AG18*AH18,0) -> 0 | AJ18: =AA18*(1+$C$75) -> 0.3990639 | AK18: =ROUND(AI18*AJ18,0) -> 0 | AL18: =AI18+AK18 -> 0 | AM18: =ROUND(AL18*$C$81,0) -> 0 | AN18: =AL18+AM18 -> 0 | AP18: =AG18 -> 0 | AQ18: =AH18*(1+$C$75) -> 0 | AR18: =ROUND(AP18*AQ18,0) -> 0 | AS18: =AJ18*(1+$C$75) -> 0.41103582 | AT18: =ROUND(AR18*AS18,0) -> 0 | AU18: =AR18+AT18 -> 0 | AV18: =ROUND(AU18*$C$81,0) -> 0 | AW18: =AU18+AV18 -> 0 | AY18: =AP18 -> 0 | AZ18: =AQ18*(1+$C$75) -> 0 | BA18: =ROUND(AY18*AZ18,0) -> 0 | BB18: =AS18*(1+$C$75) -> 0.42336689 | BC18: =ROUND(BA18*BB18,0) -> 0 | BD18: =BA18+BC18 -> 0 | BE18: =ROUND(BD18*$C$81,0) -> 0 | BF18: =BD18+BE18 -> 0 | BH18: =H18+Q18+Z18+AI18+AR18+BA18 -> 0 | BI18: =J18+S18+AB18+AK18+AT18+BC18 -> 0 | BJ18: =K18+T18+AC18+AL18+AU18+BD18 -> 0 | BK18: =L18+U18+AD18+AM18+AV18+BE18 -> 0 | BL18: =M18+V18+AE18+AN18+AW18+BF18 -> 0
A19: TOTAL TA1 LABOR FOR ALL YEARS | H19: =SUM(H8:H18) -> 14355 | J19: =SUM(J8:J18) -> 5243 | K19: =SUM(K8:K18) -> 19598 | L19: =SUM(L8:L18) -> 11739 | M19: =SUM(M8:M18) -> 31337 | Q19: =SUM(Q8:Q18) -> 14786 | S19: =SUM(S8:S18) -> 5562 | T19: =SUM(T8:T18) -> 20348 | U19: =SUM(U8:U18) -> 12188 | V19: =SUM(V8:V18) -> 32536 | Z19: =SUM(Z8:Z18) -> 15229 | AB19: =SUM(AB8:AB18) -> 5900 | AC19: =SUM(AC8:AC18) -> 21129 | AD19: =SUM(AD8:AD18) -> 12656 | AE19: =SUM(AE8:AE18) -> 33785 | AI19: =SUM(AI8:AI18) -> 15686 | AK19: =SUM(AK8:AK18) -> 6259 | AL19: =SUM(AL8:AL18) -> 21945 | AM19: =SUM(AM8:AM18) -> 13145 | AN19: =SUM(AN8:AN18) -> 35090 | AR19: =SUM(AR8:AR18) -> 16157 | AT19: =SUM(AT8:AT18) -> 6641 | AU19: =SUM(AU8:AU18) -> 22798 | AV19: =SUM(AV8:AV18) -> 13656 | AW19: =SUM(AW8:AW18) -> 36454 | BA19: =SUM(BA8:BA18) -> 16641 | BC19: =SUM(BC8:BC18) -> 7045 | BD19: =SUM(BD8:BD18) -> 23686 | BE19: =SUM(BE8:BE18) -> 14188 | BF19: =SUM(BF8:BF18) -> 37874 | BH19: =SUM(BH8:BH18) -> 92854 | BI19: =SUM(BI8:BI18) -> 36650 | BJ19: =SUM(BJ8:BJ18) -> 129504 | BK19: =SUM(BK8:BK18) -> 77572 | BL19: =SUM(BL8:BL18) -> 207076 | BM19: TA1
